BEGIN:VCALENDAR
VERSION:2.0
PRODID:-//Vortex Jazz Club - ECPv4.1.3//NONSGML v1.0//EN
CALSCALE:GREGORIAN
METHOD:PUBLISH
X-WR-CALNAME:Vortex Jazz Club
X-ORIGINAL-URL:https://www.vortexjazz.co.uk
X-WR-CALDESC:Events for Vortex Jazz Club
BEGIN:VEVENT
DTSTART;TZID=UTC+0:20190815T200000
DTEND;TZID=UTC+0:20190815T230000
DTSTAMP:20260421T114154
CREATED:20190621T152713
LAST-MODIFIED:20190814T122213
UID:17295-1565899200-1565910000@www.vortexjazz.co.uk
SUMMARY:Chris Sharkey / Mark Sanders: The Orchid and the Wasp +  Veryan Weston (solo)
DESCRIPTION:The Orchid and The Wasp is:\n\n \nChris Sharkey (electronics/guitar)\nMark Sanders (drums/percussion)\nVeryan Weston solo (piano)\n \n\n#bringyourears\n\nThe music was created in-residence at Chapel FM in Leeds and is inspired by the writing of Gilles Deleuze\, Felix Guattari and Mark Fisher.\n\nThe sound is an immersive electro-acoustic exploration of sound and interplay and first performed at Gateshead Jazz Festival in 2018\, the recording of which is available here:\n\nhttps://chrissharkey.bandcamp.com/album/the-orchid-and-the-wasp\n\n \n\nDo you miss the future?\n\n-Mark Fisher\n\n“Bring something incomprehensible into the world!”\n\n-Gilles Deleuze\n\nThe Orchid and The Wasp is Chris Sharkey (electronics/guitar) and Mark Sanders (drums/percussion)\n\nThe piece was created in-residence at Chapel FM in Leeds and is inspired by the writing of Gilles Deleuze\, Felix Guattari and Mark Fisher.\n\nThe music is an immersive electro-acoustic exploration of sound and interplay.\n\nIt was first performed at Gateshead Jazz Festival in 2018\, the recording of which is available here:\n\nhttps://chrissharkey.bandcamp.com/album/the-orchid-and-the-wasp\n\n\nA short film introducing the project\n\n[embed]https://youtu.be/stKW4H7Vcng[/embed]\n\n \n\n'... an engrossing listen\, an expansive sound collage\, ideas are exchanged at light speed - Sharkey and Sanders seem to think as one...'\n\nJazzwise ****\n\n'...dense\, complex and thoroughly compelling music...'\n\nLondon Jazz News\n\n \nVERYAN WESTON\n\n\nVeryan Weston (born 1950) was awarded ‘Young Jazz Musician of 1979’ by the Greater London Arts Association. In the '80s\, Veryan worked internationally with Lol Coxhill (with whom he made his first recordings – Ogun 525 and Random Radar)\, the Eddie Prévost Quartet and Trevor Watts – an innovator who\, in his band Moiré Music\, used a unique combination of African rhythmic structures with the European musical tradition (Arc 02). Weston also melds elements of modern composition with contemporary improvisation and this can be heard in collaborations with Phil Minton\, Luc Ex and Hannah Marshall\, but the thread throughout his work has been primarily improvisation which reveals new aspects of an ever-changing musical identity depending on who he is playing with.\n\n 
URL:https://www.vortexjazz.co.uk/event/chris-sharkey-mark-sanders-the-orchid-and-the-wasp-veryan-weston-solo/
LOCATION:11 Gillett Square\, London\, N16 8AZ
GEO:51.5487082;-0.0764992
X-APPLE-STRUCTURED-LOCATION;VALUE=URI;X-ADDRESS=11 Gillett Square London N16 8AZ;X-APPLE-RADIUS=500;X-TITLE=11 Gillett Square:geo:-0.0764992,51.5487082
ATTACH;FMTTYPE=image/jpeg:https://www.vortexjazz.co.uk/wp-content/uploads/2019/06/Sharkey.jpg
END:VEVENT
END:VCALENDAR