BEGIN:VCALENDAR
VERSION:2.0
PRODID:-//Vortex Jazz Club - ECPv4.1.3//NONSGML v1.0//EN
CALSCALE:GREGORIAN
METHOD:PUBLISH
X-WR-CALNAME:Vortex Jazz Club
X-ORIGINAL-URL:https://www.vortexjazz.co.uk
X-WR-CALDESC:Events for Vortex Jazz Club
BEGIN:VEVENT
DTSTART;TZID=UTC+0:20190819T200000
DTEND;TZID=UTC+0:20190819T230000
DTSTAMP:20260421T100253
CREATED:20190723T124119
LAST-MODIFIED:20190819T120117
UID:17495-1566244800-1566255600@www.vortexjazz.co.uk
SUMMARY:Fete Quaqua Festival 2019 (Day 2)
DESCRIPTION:\nAdmission each night  £8 / £6 concessions\nThree concert pass  £20/£15 concessions\n\n\n\nSome words from guitarist John Russell\, curator of Fete Qua Qua.\n\n\n"The basic idea behind all my Quaqua projects is very simple. It is to put groups together that recognise existing creative relationships alongside introducing musicians to each other for the first time. Every year I make a mini festival ‘Fête Quaqua’ based on these principles. Over three days the participants work together in different combinations\, every concert being different. Apart from choosing the participants\, the various combinations and giving an indication as to how long each piece should last\, everything else is freely improvised. Uniquely\, free improvisation offers the opportunity for both musicians and audience to discover the music as it happens and\, for those who buy a three day pass\, a chance to experience the natural development that the event is designed to encourage" -  John Russell\n\n‘Quaqua’ Latin - ‘whithersoever/whatever’… ‘Quaquaversal’ - pointing in all directions.\n\n\n\nLine up\n\n\nSue Ferrar (violin)                       \n Bendict Taylor (viola)                       \nJean-Michel Van Schouwburg (voice)                       \nKay Grant  (voice)                       \nRoland Ramanan (trumpet)                  \nMasaharu Shoji  (sax)                          \n Sue Lynch (sax)                          \nAlex Ward (clarinet/guitar)          \n Steve Beresford (piano/electronics)  \n Lee Boyd Allatson (drums)                    \nKen Ikeda (electronics)               \nBlanca Regina (electronics)              \nPascal Marzan (guitars)                       \nJohn Russell (guitars)                       \nHarry Gilonis (poetry/words)     \n\n[embed]https://youtu.be/8S2pYbueaHc[/embed]\n\n      \n
URL:https://www.vortexjazz.co.uk/event/fete-quaqua-festival-2019-day-2/
LOCATION:11 Gillett Square\, London\, N16 8AZ
GEO:51.5487082;-0.0764992
X-APPLE-STRUCTURED-LOCATION;VALUE=URI;X-ADDRESS=11 Gillett Square London N16 8AZ;X-APPLE-RADIUS=500;X-TITLE=11 Gillett Square:geo:-0.0764992,51.5487082
ATTACH;FMTTYPE=image/jpeg:https://www.vortexjazz.co.uk/wp-content/uploads/2019/07/FQQ.jpg
END:VEVENT
END:VCALENDAR