BEGIN:VCALENDAR
VERSION:2.0
PRODID:-//Vortex Jazz Club - ECPv4.1.3//NONSGML v1.0//EN
CALSCALE:GREGORIAN
METHOD:PUBLISH
X-WR-CALNAME:Vortex Jazz Club
X-ORIGINAL-URL:https://www.vortexjazz.co.uk
X-WR-CALDESC:Events for Vortex Jazz Club
BEGIN:VEVENT
DTSTART;TZID=UTC+0:20190829T200000
DTEND;TZID=UTC+0:20190829T233000
DTSTAMP:20260421T114147
CREATED:20190802T161048
LAST-MODIFIED:20190824T115611
UID:17532-1567108800-1567121400@www.vortexjazz.co.uk
SUMMARY:Fini & Tom’s Midnight Radio with special guests
DESCRIPTION:\nFini Bearman (vocals/compositions)\nTom Hewson (piano/compositions)\nZosia Jagodzinska (cello)\nJon Scott (drums/ percussion)\n\nMidnight Radio is a musical collaboration between vocalist Fini Bearman and pianist Tom Hewson. Together they write songs\, taking inspiration from great literary works\, in search of stories to tell and characters to bring to life. For this special concert they will be joined by two acclaimed musicians from London; cellist Zosia Jagodzinska and drummer/percussionist Jon Scott\, whose diverse musicianship embodies the universality of great storytelling.\n\n\n
URL:https://www.vortexjazz.co.uk/event/fini-toms-midnight-radio-with-special-guests/
LOCATION:11 Gillett Square\, London\, N16 8AZ
GEO:51.5487082;-0.0764992
X-APPLE-STRUCTURED-LOCATION;VALUE=URI;X-ADDRESS=11 Gillett Square London N16 8AZ;X-APPLE-RADIUS=500;X-TITLE=11 Gillett Square:geo:-0.0764992,51.5487082
ATTACH;FMTTYPE=image/jpeg:https://www.vortexjazz.co.uk/wp-content/uploads/2019/08/fini-bearman-and-tom-hewson.jpg
END:VEVENT
END:VCALENDAR