BEGIN:VCALENDAR
VERSION:2.0
PRODID:-//Vortex Jazz Club - ECPv4.1.3//NONSGML v1.0//EN
CALSCALE:GREGORIAN
METHOD:PUBLISH
X-WR-CALNAME:Vortex Jazz Club
X-ORIGINAL-URL:https://www.vortexjazz.co.uk
X-WR-CALDESC:Events for Vortex Jazz Club
BEGIN:VEVENT
DTSTART;TZID=UTC+0:20190905T200000
DTEND;TZID=UTC+0:20190905T233000
DTSTAMP:20260421T083436
CREATED:20190809T100739
LAST-MODIFIED:20190809T100739
UID:17559-1567713600-1567726200@www.vortexjazz.co.uk
SUMMARY:WorldService Project
DESCRIPTION:WorldService Project has taken a chameleon-like form over the years\, with 10 years of touring under their belts across the USA\, China\, India\, Japan and of course some of Europe's most significant jazz festivals (London\, Umea\, Saalfelden\, Tampere\, Toulouse)\, 2018 saw WSP release their fourth album 'Serve' to critical acclaim\, as front-pager headliners of Jazzfest Berlin\, main-stage headliners of India's biggest rock festival NH7 Weekender (Pune) and sweeping through festivals in Galway\, Cork\, Lancaster and Wurzburg. WSP are renowned for delivering hard-hitting sets of punk-jazz; heavy grooves and intense soloing over tightly arranged structures with a seasoning of political commentary and theatrical delivery.\n \nDave Morecroft - keys/voice\nBen Powling - sax\nKieran McLeod - trombone\nArthur O'Hara - bass\nLuke Reddin-Williams - drums\n\n
URL:https://www.vortexjazz.co.uk/event/worldservice-project/
LOCATION:11 Gillett Square\, London\, N16 8AZ
GEO:51.5487082;-0.0764992
X-APPLE-STRUCTURED-LOCATION;VALUE=URI;X-ADDRESS=11 Gillett Square London N16 8AZ;X-APPLE-RADIUS=500;X-TITLE=11 Gillett Square:geo:-0.0764992,51.5487082
ATTACH;FMTTYPE=image/jpeg:https://www.vortexjazz.co.uk/wp-content/uploads/2019/08/14188138_10153724902661175_4974831568443392134_o-1024x578.jpg
END:VEVENT
END:VCALENDAR