BEGIN:VCALENDAR
VERSION:2.0
PRODID:-//Vortex Jazz Club - ECPv4.1.3//NONSGML v1.0//EN
CALSCALE:GREGORIAN
METHOD:PUBLISH
X-WR-CALNAME:Vortex Jazz Club
X-ORIGINAL-URL:https://www.vortexjazz.co.uk
X-WR-CALDESC:Events for Vortex Jazz Club
BEGIN:VEVENT
DTSTART;TZID=UTC+0:20190908T150000
DTEND;TZID=UTC+0:20190908T180000
DTSTAMP:20260421T083330
CREATED:20190809T102605
LAST-MODIFIED:20190827T145918
UID:17561-1567954800-1567965600@www.vortexjazz.co.uk
SUMMARY:London Jazz Orchestra
DESCRIPTION:The London Jazz Orchestra Vortex Sessions\, at 28 years old\, is London’s longest jazz residency. Under the direction of Scott Stroman\, the band seems to go from strength to strength\, attracting London’s top players and writers from Kenny Wheeler and John Taylor in the early days to the exciting current lineup featured in the band today.
URL:https://www.vortexjazz.co.uk/event/london-jazz-orchestra-43/
LOCATION:11 Gillett Square\, London\, N16 8AZ
GEO:51.5487082;-0.0764992
X-APPLE-STRUCTURED-LOCATION;VALUE=URI;X-ADDRESS=11 Gillett Square London N16 8AZ;X-APPLE-RADIUS=500;X-TITLE=11 Gillett Square:geo:-0.0764992,51.5487082
END:VEVENT
BEGIN:VEVENT
DTSTART;TZID=UTC+0:20190908T200000
DTEND;TZID=UTC+0:20190908T230000
DTSTAMP:20260421T083330
CREATED:20190823T111551
LAST-MODIFIED:20190823T111551
UID:17626-1567972800-1567983600@www.vortexjazz.co.uk
SUMMARY:Wandering Wires
DESCRIPTION:\n\nOxford-based contemporary jazz quartet Wandering Wires make their debut at the Vortex.\n\nA searing mix of jazz\, soul Brazilian and electronic sounds\, Wandering Wires are establishing themselves as one of the most exciting emerging bands on the UK jazz scene. Since forming in 2016\, Wandering Wires have supported the likes of the Comet is Coming and Flamingods\, and appeared across the UK at venues including Oxford’s O2 Academy\, Band on the Wall (Manchester)\, the Canteen (Bristol)\, with QM Records (Brighton)\, as well as on ups at Truck and Are You Listening? festivals. The group's latest studio album\, 'Homecoming' (2018) has been featured regularly on BBC Introducing and was described as 'genre-fluid treat’ by Nightshift Magazine.\n\n"A successful experiment in the unification of the polar ends of the jazz spectrum into a satisfying white light" - Nightshift Magazine\n\n"It’s cool\, smart and grooving music\, harmonically rich and effortlessly tight\, generating infectious funk\, soul and Latin flavours" - Daily Info\n\nLine-Up:\nOlivia Williams - Vocals\nJohn Young - Keys\nJoe Bradley - Bass\nTim Davies - Drums\n\n\n\n
URL:https://www.vortexjazz.co.uk/event/wandering-wires/
LOCATION:11 Gillett Square\, London\, N16 8AZ
GEO:51.5487082;-0.0764992
X-APPLE-STRUCTURED-LOCATION;VALUE=URI;X-ADDRESS=11 Gillett Square London N16 8AZ;X-APPLE-RADIUS=500;X-TITLE=11 Gillett Square:geo:-0.0764992,51.5487082
ATTACH;FMTTYPE=image/jpeg:https://www.vortexjazz.co.uk/wp-content/uploads/2019/08/YOUTUBE-2.jpg
END:VEVENT
END:VCALENDAR