BEGIN:VCALENDAR
VERSION:2.0
PRODID:-//Vortex Jazz Club - ECPv4.1.3//NONSGML v1.0//EN
CALSCALE:GREGORIAN
METHOD:PUBLISH
X-WR-CALNAME:Vortex Jazz Club
X-ORIGINAL-URL:https://www.vortexjazz.co.uk
X-WR-CALDESC:Events for Vortex Jazz Club
BEGIN:VEVENT
DTSTART;TZID=UTC+0:20190914T200000
DTEND;TZID=UTC+0:20190914T230000
DTSTAMP:20260421T114221
CREATED:20190708T165322
LAST-MODIFIED:20190806T114451
UID:17410-1568491200-1568502000@www.vortexjazz.co.uk
SUMMARY:London African Music Festival #17: AYINKE MARTINS (Nigeria)
DESCRIPTION:Anyinke Martins (vocals)\n \n\nSinger\, songwriter and producer AYINKE MARTINS is the leading light in Nigerian jazz music. She fuses various African musical styles to create NAIJA JAZZ (Naija meaning Nigeria) a musical style of her own.\n\n \n\nHer two CDs (FIRST FRUIT and AYINKE NOW) are testimony to her originality in song writing\, arranging and producing. She is both executive and music producer on both CDs.\n\n \n\nAyinke Martins wrote some of the most celebrated songs for The Yoruba Women Choir and plays massive role in turning the choir to Africa's finest choir.\n\n \n\nFor the festival she brings her group to London and expect to hear classics like BI ALA\, EDI DE\, NI RESA.\n\n \n\n[embed]https://youtu.be/aVj6FFnp8Wg[/embed]\n\n 
URL:https://www.vortexjazz.co.uk/event/london-african-music-festival-17-ayinke-martins-nigeria/
LOCATION:11 Gillett Square\, London\, N16 8AZ
GEO:51.5487082;-0.0764992
X-APPLE-STRUCTURED-LOCATION;VALUE=URI;X-ADDRESS=11 Gillett Square London N16 8AZ;X-APPLE-RADIUS=500;X-TITLE=11 Gillett Square:geo:-0.0764992,51.5487082
ATTACH;FMTTYPE=image/jpeg:https://www.vortexjazz.co.uk/wp-content/uploads/2019/07/0.jpeg
END:VEVENT
END:VCALENDAR