BEGIN:VCALENDAR
VERSION:2.0
PRODID:-//Vortex Jazz Club - ECPv4.1.3//NONSGML v1.0//EN
CALSCALE:GREGORIAN
METHOD:PUBLISH
X-WR-CALNAME:Vortex Jazz Club
X-ORIGINAL-URL:https://www.vortexjazz.co.uk
X-WR-CALDESC:Events for Vortex Jazz Club
BEGIN:VEVENT
DTSTART;TZID=UTC+0:20190926T200000
DTEND;TZID=UTC+0:20190926T230000
DTSTAMP:20260421T114222
CREATED:20190723T150256
LAST-MODIFIED:20190830T114333
UID:17498-1569528000-1569538800@www.vortexjazz.co.uk
SUMMARY:Blow the Fuse presents: The Casimir Connection
DESCRIPTION:Diane McLoughlin: band leader\, composer\, saxes\nKit Massey: violin\nPawel Grudzien: piano and violin\nTim Fairhall: double bass\n \n\nBlow the Fuse presents The Casimir Connection album launch as part of the 'Resistance' series – 30 years of Blow the Fuse 1989-2019.\n\nThe Casimir Connection is a jazz chamber group for the modern era. Tonight they launch their new album ‘Cause and Effect’.\n\nExploring the boundaries between classical\, folk and jazz with intensity and intimacy\, they echo chamber music of the classical tradition – with influences from Keith Jarrett to Poulenc\, Bartok and Balkan folk music.\n\n'Cause and Effect’ is a journey through the influence of childhood experiences. Preview tracks: https://soundcloud.com/user-471985480-928513663/sets/cause-and-effect-preview\n\n \n\n“The bright fibrous sound of Diane McLoughlin’s soprano saxophone is a particular delight” Dave Gelly (The Guardian)\n\n“McLoughlin can mix a keening tone with a melodic sweetness” Andy Robson (Jazzwise magazine)\n\nhttps://www.facebook.com/TheCasimirConnection\n\nhttps://www.thecasimirconnection.com\n\n 
URL:https://www.vortexjazz.co.uk/event/blow-the-fuse-presents-the-casimir-connection-3/
LOCATION:11 Gillett Square\, London\, N16 8AZ
GEO:51.5487082;-0.0764992
X-APPLE-STRUCTURED-LOCATION;VALUE=URI;X-ADDRESS=11 Gillett Square London N16 8AZ;X-APPLE-RADIUS=500;X-TITLE=11 Gillett Square:geo:-0.0764992,51.5487082
ATTACH;FMTTYPE=image/jpeg:https://www.vortexjazz.co.uk/wp-content/uploads/2019/07/Casimir-pic-2.jpg
END:VEVENT
END:VCALENDAR