BEGIN:VCALENDAR
VERSION:2.0
PRODID:-//Vortex Jazz Club - ECPv4.1.3//NONSGML v1.0//EN
CALSCALE:GREGORIAN
METHOD:PUBLISH
X-WR-CALNAME:Vortex Jazz Club
X-ORIGINAL-URL:https://www.vortexjazz.co.uk
X-WR-CALDESC:Events for Vortex Jazz Club
BEGIN:VEVENT
DTSTART;TZID=UTC+0:20190929T200000
DTEND;TZID=UTC+0:20190929T230000
DTSTAMP:20260421T083339
CREATED:20190823T101336
LAST-MODIFIED:20190823T121814
UID:17617-1569787200-1569798000@www.vortexjazz.co.uk
SUMMARY:THEY WILL FLOCK - THE GAME (album launch)
DESCRIPTION:Pete Gavin - Electric Bass\nThomas Lumley - Tenor Saxophone\nAubin Vanns - Electric Guitar\nMatt Davies - Drums\n\nFormed by electric bassist Pete Gavin\, They Will Flock play music that hurtles them into the crossroads between jazz & electronica\, with strong elements of world music. Their live shows are known for intense sonic landscapes\, explosive rock energy and high-level nuanced chamber ensemble playing. The groups open-mindedness and willingness to experiment has led to a unique sound offering a directness and accessibility that belies its complex nature.\n\nThey Will Flock's debut release ‘The Game’ draws upon the diverse playing experiences of each member including contemporary jazz\, Jewish dance music\, Indian weddings\, Swedish folk music and West African drum circles resulting in highly wrought compositions that are balanced with adventurous no-holds-barred improvising.\n\n
URL:https://www.vortexjazz.co.uk/event/they-will-flock/
LOCATION:11 Gillett Square\, London\, N16 8AZ
GEO:51.5487082;-0.0764992
X-APPLE-STRUCTURED-LOCATION;VALUE=URI;X-ADDRESS=11 Gillett Square London N16 8AZ;X-APPLE-RADIUS=500;X-TITLE=11 Gillett Square:geo:-0.0764992,51.5487082
ATTACH;FMTTYPE=image/jpeg:https://www.vortexjazz.co.uk/wp-content/uploads/2019/08/They-Will-Flock-Promo-Photo-min.jpg
END:VEVENT
END:VCALENDAR