BEGIN:VCALENDAR
VERSION:2.0
PRODID:-//Vortex Jazz Club - ECPv4.1.3//NONSGML v1.0//EN
CALSCALE:GREGORIAN
METHOD:PUBLISH
X-WR-CALNAME:Vortex Jazz Club
X-ORIGINAL-URL:https://www.vortexjazz.co.uk
X-WR-CALDESC:Events for Vortex Jazz Club
BEGIN:VEVENT
DTSTART;TZID=UTC+0:20191022T200000
DTEND;TZID=UTC+0:20191022T230000
DTSTAMP:20260421T080936
CREATED:20190925T105829
LAST-MODIFIED:20191015T122057
UID:17842-1571774400-1571785200@www.vortexjazz.co.uk
SUMMARY:Matt Ridley\, 'The Antidote'
DESCRIPTION:Matt Ridley\, Double bass compositions\n Alex Hitchcock\, saxophones\nAnt Law\, guitar\nTom Hewson\, piano\nMarc Michel\, drumkit\n \n\nFollowing on from two successful album releases and extensive touring with his critically acclaimed quartet ('One of the UK's very finest contemporary quartets'-Jazzviews)\, Matt is striking out again with an all-new quintet project entitled 'The Antidote'. Featuring the talents of rising star saxophonist Alex Hitchcock\, long-time collaborator Ant Law on guitar\, Tom Hewson on piano\, and Marc Michel on drums\, the band are set to record their debut album at the end of October.\n\nSince his last album release in 2016\, Matt has been gradually assembling a new portfolio of compositions\, and this concert will be the first\, and perhaps only time\, that all 12 compositions slated for recording will be performed live.\n\n \n\nhttps://twitter.com/mattridleybass\n https://www.facebook.com/mattridleymusic/\nhttps://www.instagram.com/tharidla/\n\n
URL:https://www.vortexjazz.co.uk/event/matt-ridley-the-antidote/
LOCATION:11 Gillett Square\, London\, N16 8AZ
GEO:51.5487082;-0.0764992
X-APPLE-STRUCTURED-LOCATION;VALUE=URI;X-ADDRESS=11 Gillett Square London N16 8AZ;X-APPLE-RADIUS=500;X-TITLE=11 Gillett Square:geo:-0.0764992,51.5487082
ATTACH;FMTTYPE=image/jpeg:https://www.vortexjazz.co.uk/wp-content/uploads/2019/09/Matt-Ridley-Promo-1-Matt-Ridley-2-750x1125_Fotor.jpg
END:VEVENT
END:VCALENDAR