BEGIN:VCALENDAR
VERSION:2.0
PRODID:-//Vortex Jazz Club - ECPv4.1.3//NONSGML v1.0//EN
CALSCALE:GREGORIAN
METHOD:PUBLISH
X-WR-CALNAME:Vortex Jazz Club
X-ORIGINAL-URL:https://www.vortexjazz.co.uk
X-WR-CALDESC:Events for Vortex Jazz Club
BEGIN:VEVENT
DTSTART;TZID=UTC+0:20191101T200000
DTEND;TZID=UTC+0:20191101T230000
DTSTAMP:20260421T061910
CREATED:20190924T232845
LAST-MODIFIED:20191024T160352
UID:17839-1572638400-1572649200@www.vortexjazz.co.uk
SUMMARY:CAM Jazz presents Huw Warren Double Bill
DESCRIPTION:New Day - Huw Warren (piano) + Mark Lockheart (saxophones)\n\nLaunch night for the new duo album recorded live in Italy by two longtime collaborators and leading lights of the UK jazz scene\n\n"A beautiful\, beguiling and intimate conversation between these two virtuosic and soulful players" RTE\n\nEverything in Between - Huw Warren (piano) Conor Chaplin (bass) Zoot Warren (drums)\n\nJuxtaposing Warren's love of Brazilian music and his startlingly original compositional style\, the trio mixes high energy excitement with deep lyricism\n\n"Simply put\, this is not just another piano trio album. Love has been poured into its exuberance and tenderness… and it shows”  Adrian Pallant
URL:https://www.vortexjazz.co.uk/event/cam-jazz-presents-huw-warren-double-bill/
LOCATION:11 Gillett Square\, London\, N16 8AZ
GEO:51.5487082;-0.0764992
X-APPLE-STRUCTURED-LOCATION;VALUE=URI;X-ADDRESS=11 Gillett Square London N16 8AZ;X-APPLE-RADIUS=500;X-TITLE=11 Gillett Square:geo:-0.0764992,51.5487082
ATTACH;FMTTYPE=image/jpeg:https://www.vortexjazz.co.uk/wp-content/uploads/2019/09/HWML.jpg
END:VEVENT
END:VCALENDAR