BEGIN:VCALENDAR
VERSION:2.0
PRODID:-//Vortex Jazz Club - ECPv4.1.3//NONSGML v1.0//EN
CALSCALE:GREGORIAN
METHOD:PUBLISH
X-WR-CALNAME:Vortex Jazz Club
X-ORIGINAL-URL:https://www.vortexjazz.co.uk
X-WR-CALDESC:Events for Vortex Jazz Club
BEGIN:VEVENT
DTSTART;TZID=UTC+0:20191116T171500
DTEND;TZID=UTC+0:20191116T200000
DTSTAMP:20260421T083330
CREATED:20190628T142215
LAST-MODIFIED:20191104T144032
UID:17372-1573924500-1573934400@www.vortexjazz.co.uk
SUMMARY:Thelonious
DESCRIPTION:Martin Speake – Saxophone\nHans Koller – Euphonium\nJeff Williams– Drums\nFred Thomas – Double Bass\n\nThelonious formed in 2015 to study and play the music of one of the 20th century’s greatest composers.\n\nSaxophonist Martin Speake\, Euphonium/Piano Hans Koller and Calum Gourlay on double bass\, spent 3 years leading up to Monk’s centennial year (2017) learning all his compositions and studying his music. It was at their monthly residency downstairs at The Vortex where they began to present their take on Monk for his second century.\n\nPlaying stripped down versions focusing on the strong sometimes beautiful sometimes angular melodies of Thelonious Monk. Joined tonight by young lion David Ingamells on drums.
URL:https://www.vortexjazz.co.uk/event/thelonious-9/
LOCATION:11 Gillett Square\, London\, N16 8AZ
GEO:51.5487082;-0.0764992
X-APPLE-STRUCTURED-LOCATION;VALUE=URI;X-ADDRESS=11 Gillett Square London N16 8AZ;X-APPLE-RADIUS=500;X-TITLE=11 Gillett Square:geo:-0.0764992,51.5487082
ATTACH;FMTTYPE=image/jpeg:https://www.vortexjazz.co.uk/wp-content/uploads/2016/02/THELONIOUS.jpg
END:VEVENT
BEGIN:VEVENT
DTSTART;TZID=UTC+0:20191116T200000
DTEND;TZID=UTC+0:20191116T230000
DTSTAMP:20260421T083330
CREATED:20190628T143550
LAST-MODIFIED:20191116T094003
UID:17373-1573934400-1573945200@www.vortexjazz.co.uk
SUMMARY:Tony Kofi & The Organisation (sold out)
DESCRIPTION:The origins of The Organisation go back a over a decade and grew from Simon Fernsby's memorable 'Manhattan Project' sessions which were a staple of jazz in South London throughout the 2000s. Drummer Pete Cater was an early recruit having been a jazz tutor on Fernsby's music college course. The band went through several incarnations and with the addition of organist Pete Whittaker honed its no-nonsense\, hard-hitting style as the house rhythm section in multiple venues\, festivals and residencies. Throughout this time they worked with many of London's leading jazz musicians but in spite of associations with several distinguished players did not become a regular quartet until a serendipitous meeting with saxophonist Tony Kofi in August 2010. This association with Tony was the result of a last minute dep at Kent jazz institution the Eagle Tavern\, Tony fresh from recording with Ornette Coleman in New York.\n\nPlaying both alto and baritone on the date there was an instant affinity between the players\, the Organisation's combination of both the Bluesy soul jazz side the Hammond canon\, and their knowledge of the more modern post bop side of the repertoire (as typified by Woody Shaw's "Moontrane") working perfectly with Tony's approach. It is to the credit of all the musicians that they have played a long game\, developing their craft and style on the UK jazz circuit and the sounds you will hear are the sounds of a band who have put the hours in and held an ace in their collective hand until the moment to play it was just right.\n\n"A killer band with real bite" Mark Youll Jazzwise
URL:https://www.vortexjazz.co.uk/event/tony-kofi-the-organisation/
LOCATION:11 Gillett Square\, London\, N16 8AZ
GEO:51.5487082;-0.0764992
X-APPLE-STRUCTURED-LOCATION;VALUE=URI;X-ADDRESS=11 Gillett Square London N16 8AZ;X-APPLE-RADIUS=500;X-TITLE=11 Gillett Square:geo:-0.0764992,51.5487082
ATTACH;FMTTYPE=image/jpeg:https://www.vortexjazz.co.uk/wp-content/uploads/2019/06/Tony-Kofi-The-Organisation.jpeg
END:VEVENT
BEGIN:VEVENT
DTSTART;TZID=UTC+0:20191116T210000
DTEND;TZID=UTC+0:20191116T210000
DTSTAMP:20260421T083330
CREATED:20191005T204845
LAST-MODIFIED:20191018T110410
UID:17896-1573938000-1573938000@www.vortexjazz.co.uk
SUMMARY:IMPROV NIGHTS
DESCRIPTION:\n\n\n"IMPROV NIGHTS" is a monthly event at the Vortex Downstairs curated by London-based drummer and percussionist Stefano Ancora.\n\n\nLIVE DUO and TRIO sets of improvised music\, with a different set-up every month\, then followed by an open jam session with guest musicians and tasty records selection till late... ALL IN A REAL-TIME MUSICAL CONVERSATION!!\n\nLINE-UP\nSAT 16th NOV - EFG LONDON JAZZ FESTIVAL\n\n\n\n- JJT Duo feat. Jozef Janik on keys and James Taylor on drums\n(Improvised hard funk - https://youtu.be/3KSMUepH9Es)\n\n- "BROTHERHOOD Duo" feat. Stefano Ancora on drums & Pietro Murri on trumpet\n\nFREE ENTRY before 10pm\, 5£ after..\n\n\n
URL:https://www.vortexjazz.co.uk/event/improv-night-2/
LOCATION:11 Gillett Square\, London\, N16 8AZ
GEO:51.5487082;-0.0764992
X-APPLE-STRUCTURED-LOCATION;VALUE=URI;X-ADDRESS=11 Gillett Square London N16 8AZ;X-APPLE-RADIUS=500;X-TITLE=11 Gillett Square:geo:-0.0764992,51.5487082
ATTACH;FMTTYPE=image/jpeg:https://www.vortexjazz.co.uk/wp-content/uploads/2019/10/IMG_4780.jpeg
END:VEVENT
BEGIN:VEVENT
DTSTART;TZID=UTC+0:20191116T223000
DTEND;TZID=UTC+0:20191117T020000
DTSTAMP:20260421T083330
CREATED:20190906T182923
LAST-MODIFIED:20190906T182923
UID:17724-1573943400-1573956000@www.vortexjazz.co.uk
SUMMARY:Jas Kayser
DESCRIPTION:This year for the EFG London Jazz Festival\, the Vortex Jazz Club are hosting a series of late night shows featuring some of the most exciting up-and-coming artists in the UK.\n\nFollowing Toni Kofi and the Organisation\, Jas Kayser invites the 'Chums' for an evening of Afro-beat inspired grooves blended with jazz-influenced harmony and contagious horn lines\, with a refreshing take on African vocal harmonies. Formed of an international collective of musicians from around the globe such as\, Belgium\, Israel\, Panama\, US and UK\, Jas & Chums is led by the drummer and composer\, Jas Kayser\, from the UK.\n\nThe project explores the common ground between progressive jazz\, and soulful\, afro-beat led rhythms and is set to cement her credentials as one of the leading forces behind the resurgence of jazz-influenced sounds in the UK and US.\n\nDrum Set - Jas Kayser\nElectric Bass - TBD\nElectric Guitar - Lior Tzemach \nPiano - Margaux Vranken \nTrumpet - Cosimo Boni\n\n
URL:https://www.vortexjazz.co.uk/event/jas-kayser/
LOCATION:11 Gillett Square\, London\, N16 8AZ
GEO:51.5487082;-0.0764992
X-APPLE-STRUCTURED-LOCATION;VALUE=URI;X-ADDRESS=11 Gillett Square London N16 8AZ;X-APPLE-RADIUS=500;X-TITLE=11 Gillett Square:geo:-0.0764992,51.5487082
ATTACH;FMTTYPE=image/jpeg:https://www.vortexjazz.co.uk/wp-content/uploads/2019/09/61044204_891309347868907_9022584527674933248_o.jpg
END:VEVENT
END:VCALENDAR