BEGIN:VCALENDAR
VERSION:2.0
PRODID:-//Vortex Jazz Club - ECPv4.1.3//NONSGML v1.0//EN
CALSCALE:GREGORIAN
METHOD:PUBLISH
X-WR-CALNAME:Vortex Jazz Club
X-ORIGINAL-URL:https://www.vortexjazz.co.uk
X-WR-CALDESC:Events for Vortex Jazz Club
BEGIN:VEVENT
DTSTART;TZID=UTC+0:20191121T200000
DTEND;TZID=UTC+0:20191121T230000
DTSTAMP:20260421T081207
CREATED:20190805T120243
LAST-MODIFIED:20191119T110336
UID:17535-1574366400-1574377200@www.vortexjazz.co.uk
SUMMARY:The Shape of Jazz To Come presents: Renell Shaw Fore
DESCRIPTION:Renell Shaw (vocals/electric Bass)\nNathan Flutebox Lee (flute)\nMichael Antoniou (electric guitar)\nKaz Rodriguez (drums)\n \n\n \n\nA quartet centred around bassist and composer Renell Shaw exploring the\n\nintersection between soundtrack like arrangements and improvised expression.\n\nRenell will be debuting songs and compositions from his up and coming album “Self Study Self”.\n\nExpect melodic bass lines\, thought provoking poetry and a fusion of Jazz sensibility with Hip-Hop honesty.\n\n \n\n “While rapidly becoming one of the go to Bassist & Multi-Instrumentalist on the Uk music scene. Renell Shaw has also been solidly building a reputation for creating quality music across many genres. Constantly attracting well deserved credit and plaudits from the myriad of artists that he has performed and recorded with since first appearing on the scene. Renell is establishing himself as an Artist of note!” – Orphy Robinson MBE\n\n \n\nRenell Shaw has collaborated\, recorded and toured alongside artists such as: Rudimental\, Nitin Sawhney\, Maverick Sabre\, Mr Jukes\, Aloe Blacc\, Speech Debelle and Carleen Anderson amongst others.\n\n“A breath of fresh air\, very atmospheric\, made in the UK” – Jazzie B OBE \n\nRENELLSHAW.COM\n\nInternationally acclaimed drummer and composer Kaz Rodriguez has played with everybody from Jessie Ware and Sinead Harnett to The Disciples and Cirque du Soleil. Currentley playing with Josh Groban\, Kaz has been an influence to drummers all around the world from his drum-less albums. He has written tracks for the likes of Chris Coleman\, Aaron Spears\, Robert “Sput” Searight\, and many more.\n\nFlutebox (beat boxing through the flute while playing it at the same time) pioneer Nathan ‘Flutebox’ Lee is an explosive blend of Hip Hop\, Jazz\, Funk and Eastern melodies. Nathan has collaborated live and in the studio with legendary artists including: The Prodigy\, Asian Dub Foun-dation\, Plan B and The Roots to name a few.\n\nGuitarist Michael Antoniou has a broad resume with the most notable credit being ‘Composer and Performer on Rihanna’s Grammy Award winning album – Unapologetic’. Michael’s Guitar playing style has been described as fusion of Blues\, Rock and Mediterranean influences.\n\n\n[embed]https://youtu.be/mFgXe-SPYWo[/embed]\n\n
URL:https://www.vortexjazz.co.uk/event/the-shape-of-jazz-to-come-presents-renell-shaw-trio/
LOCATION:11 Gillett Square\, London\, N16 8AZ
GEO:51.5487082;-0.0764992
X-APPLE-STRUCTURED-LOCATION;VALUE=URI;X-ADDRESS=11 Gillett Square London N16 8AZ;X-APPLE-RADIUS=500;X-TITLE=11 Gillett Square:geo:-0.0764992,51.5487082
ATTACH;FMTTYPE=image/jpeg:https://www.vortexjazz.co.uk/wp-content/uploads/2019/08/Renell-750x641-1.jpg
END:VEVENT
BEGIN:VEVENT
DTSTART;TZID=UTC+0:20191121T200000
DTEND;TZID=UTC+0:20191121T230000
DTSTAMP:20260421T081207
CREATED:20191117T114531
LAST-MODIFIED:20191117T114601
UID:18124-1574366400-1574377200@www.vortexjazz.co.uk
SUMMARY:Festivsal Special! Words and Jazz
DESCRIPTION:\nWords & Jazz is proud to present a blistering night of the best in contemporary poetry and jazz this EFG London Jazz Festival. Come to the cosy bar downstairs at the Vortex to experience this 'outstanding summit between contemporary poets and musicians' (The Independent) .\n\n\nThis month\, we present\n\n\n\nPoets:\n\n\nAmy Acre\n\n\nOllie O'Neil\n\n\nMichael Wilson\n\n\nArden Fitzroy\n\n\n\nSorana Santos (Voice and composition)\n\n\nJoe Wright\n\n\nNick Jurd\n\n\nJonathan Silk\n\n\n\nHost: Nicki Heinen\n\n\n\n£5 on the door (all proceeds go to the artists)\n\n
URL:https://www.vortexjazz.co.uk/event/words-and-jazz-10/
LOCATION:11 Gillett Square\, London\, N16 8AZ
GEO:51.5487082;-0.0764992
X-APPLE-STRUCTURED-LOCATION;VALUE=URI;X-ADDRESS=11 Gillett Square London N16 8AZ;X-APPLE-RADIUS=500;X-TITLE=11 Gillett Square:geo:-0.0764992,51.5487082
ATTACH;FMTTYPE=image/jpeg:https://www.vortexjazz.co.uk/wp-content/uploads/2017/06/Sorana-Santos.jpg
END:VEVENT
END:VCALENDAR