BEGIN:VCALENDAR
VERSION:2.0
PRODID:-//Vortex Jazz Club - ECPv4.1.3//NONSGML v1.0//EN
CALSCALE:GREGORIAN
METHOD:PUBLISH
X-WR-CALNAME:Vortex Jazz Club
X-ORIGINAL-URL:https://www.vortexjazz.co.uk
X-WR-CALDESC:Events for Vortex Jazz Club
BEGIN:VEVENT
DTSTART;TZID=UTC+0:20191127T200000
DTEND;TZID=UTC+0:20191127T230000
DTSTAMP:20260424T194946
CREATED:20190913T123140
LAST-MODIFIED:20191122T131143
UID:17752-1574884800-1574895600@www.vortexjazz.co.uk
SUMMARY:Steve Williamson Trio
DESCRIPTION:Steve Williamson (sax)\nHamish Moore (bass)\nZoe Pascal (drums)\n \n\nSteve Williamson is one of the most important saxophonists to have emerged on the London scene over the past decades. Since his membership of the original Jazz Warriors\, with a first album produced by Steve Coleman\, he has never failed to produce music with imagination and heart\, whether it be his originals\, standards or improvisations.\n\n \n\n[embed]https://youtu.be/ez0ok2Y6ms8[/embed]
URL:https://www.vortexjazz.co.uk/event/steve-williamson-trio/
LOCATION:11 Gillett Square\, London\, N16 8AZ
GEO:51.5487082;-0.0764992
X-APPLE-STRUCTURED-LOCATION;VALUE=URI;X-ADDRESS=11 Gillett Square London N16 8AZ;X-APPLE-RADIUS=500;X-TITLE=11 Gillett Square:geo:-0.0764992,51.5487082
ATTACH;FMTTYPE=image/jpeg:https://www.vortexjazz.co.uk/wp-content/uploads/2018/12/steve-williamson.jpg
END:VEVENT
END:VCALENDAR