BEGIN:VCALENDAR
VERSION:2.0
PRODID:-//Vortex Jazz Club - ECPv4.1.3//NONSGML v1.0//EN
CALSCALE:GREGORIAN
METHOD:PUBLISH
X-WR-CALNAME:Vortex Jazz Club
X-ORIGINAL-URL:https://www.vortexjazz.co.uk
X-WR-CALDESC:Events for Vortex Jazz Club
BEGIN:VEVENT
DTSTART;TZID=UTC+0:20191201T150000
DTEND;TZID=UTC+0:20191201T173000
DTSTAMP:20260421T081115
CREATED:20191126T130548
LAST-MODIFIED:20191126T163952
UID:18165-1575212400-1575221400@www.vortexjazz.co.uk
SUMMARY:Guildhall Vocal Ensembles
DESCRIPTION:The Jazz Department at Guildhall School is one of the most renowned and established of its kind\, with alumni including Zara McFarlane\, NAO\, Natalie Williams\, Stacey Kent\, and Cleveland Watkiss. This afternoon performance showcases four of the school’s vocal ensembles: Guildhall Jazz Singers\, Jazz Choir\, Vocal Jazz Ensemble and Guildhall Conchords.
URL:https://www.vortexjazz.co.uk/event/guildhall-vocal-ensembles/
LOCATION:11 Gillett Square\, London\, N16 8AZ
GEO:51.5487082;-0.0764992
X-APPLE-STRUCTURED-LOCATION;VALUE=URI;X-ADDRESS=11 Gillett Square London N16 8AZ;X-APPLE-RADIUS=500;X-TITLE=11 Gillett Square:geo:-0.0764992,51.5487082
ATTACH;FMTTYPE=image/jpeg:https://www.vortexjazz.co.uk/wp-content/uploads/2019/11/Guildhall-Jazz-Singers.jpg
END:VEVENT
BEGIN:VEVENT
DTSTART;TZID=UTC+0:20191201T193000
DTEND;TZID=UTC+0:20191201T230000
DTSTAMP:20260421T081115
CREATED:20191027T161905
LAST-MODIFIED:20191127T095655
UID:18014-1575228600-1575241200@www.vortexjazz.co.uk
SUMMARY:Antonio Zambrini Trio
DESCRIPTION:\n Antonio Zambrini - Piano\n\nAndrea Di Biase - Double Bass\nJon Scott - Drums\n \n\n\n[embed]https://youtu.be/9UyLOb-XE1M[/embed]\n\nAcclaimed pianist and composer Antonio Zambrini is one of the most respected figurehead of the Italian Jazz scene\, as well as a revered educator as professor of Piano at the Conservatory of Milan. He presents at the Vortex his creative take on some of the most iconic film soundtracks of the Italian neorealism. This project of rediscovery originated in Zambrini’s longstanding collaboration with the Milan Film Institute (Cineteca di Milano)\, where he frequently performed live improvised soundtracks to silent films. There he had access to a wealth of cinematic material to draw inspiration from\, some of which was even unreleased by the film directors themselves. The work culminated in the recording of the album “Antonio Zambrini plays Nino Rota”. He will be joined by his long standing rhythm section of choice featuring bassist Andrea Di Biase and drummer Jon Scott.\n\n\n\n\n
URL:https://www.vortexjazz.co.uk/event/antonio-zambrini-trio/
LOCATION:11 Gillett Square\, London\, N16 8AZ
GEO:51.5487082;-0.0764992
X-APPLE-STRUCTURED-LOCATION;VALUE=URI;X-ADDRESS=11 Gillett Square London N16 8AZ;X-APPLE-RADIUS=500;X-TITLE=11 Gillett Square:geo:-0.0764992,51.5487082
ATTACH;FMTTYPE=image/jpeg:https://www.vortexjazz.co.uk/wp-content/uploads/2019/10/Antonio-ZambriniBN.jpg
END:VEVENT
END:VCALENDAR