BEGIN:VCALENDAR
VERSION:2.0
PRODID:-//Vortex Jazz Club - ECPv4.1.3//NONSGML v1.0//EN
CALSCALE:GREGORIAN
METHOD:PUBLISH
X-WR-CALNAME:Vortex Jazz Club
X-ORIGINAL-URL:https://www.vortexjazz.co.uk
X-WR-CALDESC:Events for Vortex Jazz Club
BEGIN:VEVENT
DTSTART;TZID=UTC+0:20191202T200000
DTEND;TZID=UTC+0:20191202T230000
DTSTAMP:20260425T040405
CREATED:20190926T140220
LAST-MODIFIED:20191109T023209
UID:17844-1575316800-1575327600@www.vortexjazz.co.uk
SUMMARY:Sam Newbould Quintet
DESCRIPTION:A unique quintet that combines emotive melody\, lush harmony and virtuosic improvisation. The Sam Newbould Quintet draws together some of the most exciting talents on the European jazz circuit. Originating from the UK\, Spain\, Israel\, Italy\, and Germany\, the group met at the esteemed Conservatorium van Amsterdam in 2017. Since then\, their tight performances and exciting improvisations have impressed audiences on internationally renowned stages including the Bimhuis Amsterdam\, Amersfoort jazz festival and LantarenVenster Rotterdam.\n\n\nThoughtful and imaginative\, Sam's writing is influenced by the compositional styles of Kenny Wheeler\, Django Bates\, Darcy James Argue and Wayne Shorter. He also draws influence from a number of genres including jazz\, English folk\, 20th century classical music\, 60s rock/pop and a whole host of other styles that can be heard in the music. Having studied under a new wave of European composer/performers including Ben van Gelder\, Joris Roelofs\, and Reinier Baas\, Sam continues to make his mark as an important new voice in contemporary jazz composition.\n\nThe quintet's appearance at the Vortex features as part of their 'Blencathra' album release tour. 'Blencathra' comprises a set of original compositions written by Sam as a reflection on his time spent growing up in the North of England. The quintet will also feature special guests Billy Marrows (guitar) and Beth Aggett (vocals) - two familiar names on the London jazz circuit.\n\nSam Newbould - alto saxophone & compositions\nBernard van Rossum - tenor saxophone\nXavi Torres - piano\nDaniel Nagel - bass\nGuy Salamon - drums\n\n\n\nFeaturing:\nBeth Aggett - vocals\nBilly Marrows - guitar\nMatthew Sulzmann - soprano saxophone\n\n\n\n\n\n\n\n
URL:https://www.vortexjazz.co.uk/event/sam-newbould-quintet/
LOCATION:11 Gillett Square\, London\, N16 8AZ
GEO:51.5487082;-0.0764992
X-APPLE-STRUCTURED-LOCATION;VALUE=URI;X-ADDRESS=11 Gillett Square London N16 8AZ;X-APPLE-RADIUS=500;X-TITLE=11 Gillett Square:geo:-0.0764992,51.5487082
ATTACH;FMTTYPE=image/jpeg:https://www.vortexjazz.co.uk/wp-content/uploads/2019/09/Image.jpg
END:VEVENT
END:VCALENDAR