BEGIN:VCALENDAR
VERSION:2.0
PRODID:-//Vortex Jazz Club - ECPv4.1.3//NONSGML v1.0//EN
CALSCALE:GREGORIAN
METHOD:PUBLISH
X-WR-CALNAME:Vortex Jazz Club
X-ORIGINAL-URL:https://www.vortexjazz.co.uk
X-WR-CALDESC:Events for Vortex Jazz Club
BEGIN:VEVENT
DTSTART;TZID=UTC+0:20191208T143000
DTEND;TZID=UTC+0:20191208T173000
DTSTAMP:20260421T093126
CREATED:20191010T200736
LAST-MODIFIED:20191108T142039
UID:17937-1575815400-1575826200@www.vortexjazz.co.uk
SUMMARY:LONDON JAZZ ORCHESTRA
DESCRIPTION:In its long history the LJO's piano chair has been filled by some of the greatest names in jazz\, beginning with the magnificent John Taylor. December's session features Taylor's Quatorze suite plus music by his successors Pete Saberton\, Nikki Iles\, and Alcyona Mick.\n\nThe London Jazz Orchestra Vortex Sessions\, at 28 years old\, is London’s longest jazz residency. Under the direction of Scott Stroman\, the band seems to go from strength to strength\, attracting London’s top players and writers from Kenny Wheeler and John Taylor in the early days to the exciting current lineup featured in the band today.\n\n
URL:https://www.vortexjazz.co.uk/event/london-jazz-orchestra-44/
LOCATION:11 Gillett Square\, London\, N16 8AZ
GEO:51.5487082;-0.0764992
X-APPLE-STRUCTURED-LOCATION;VALUE=URI;X-ADDRESS=11 Gillett Square London N16 8AZ;X-APPLE-RADIUS=500;X-TITLE=11 Gillett Square:geo:-0.0764992,51.5487082
ATTACH;FMTTYPE=image/jpeg:https://www.vortexjazz.co.uk/wp-content/uploads/2019/06/Photo-LJO_01.jpg
END:VEVENT
BEGIN:VEVENT
DTSTART;TZID=UTC+0:20191208T200000
DTEND;TZID=UTC+0:20191208T230000
DTSTAMP:20260421T093126
CREATED:20190913T122812
LAST-MODIFIED:20190913T185554
UID:17750-1575835200-1575846000@www.vortexjazz.co.uk
SUMMARY:Maria Chiara Argirò - Hidden Seas
DESCRIPTION:“...subtly percussive\, cinematically evocative ensemble...She’s a quietly compelling presence\nin new European jazz.” The Guardian\nHidden Seas is London-based Italian pianist and composer Maria Chiara Argirò’s second\nalbum\, following on from her 2016 debut The Fall Dance. She is a well-known name on the\nLondon scene – her keyboard skills much in demand – currently involved with a variety of\nmusical projects including Liran Donin's 1000 Boats\, Kinkajous\, Teotima\, Rosie Turton and\nJamie Leeming.\nHidden Seas – composed entirely by Argirò – departs from the more traditional sound of\nher debut and sees her turning to synths and electronics and the introduction of vocals.\nAccompanying Argirò on piano and electronics is a brilliant line up including singer Leïla Martial\,\nSam Rapley (Tenor Sax/Clarinet)\, Tal Janes (Guitar/Effects)\, Andrea Di Biase (Double Bass)\nand Gaspar Sena (Drums).\n\nHidden Seas by Maria Chiara Argirò
URL:https://www.vortexjazz.co.uk/event/maria-chiara-argiro-hidden-seas/
LOCATION:11 Gillett Square\, London\, N16 8AZ
GEO:51.5487082;-0.0764992
X-APPLE-STRUCTURED-LOCATION;VALUE=URI;X-ADDRESS=11 Gillett Square London N16 8AZ;X-APPLE-RADIUS=500;X-TITLE=11 Gillett Square:geo:-0.0764992,51.5487082
ATTACH;FMTTYPE=image/png:https://www.vortexjazz.co.uk/wp-content/uploads/2019/09/Maria-Chiara-Argiro.png
END:VEVENT
END:VCALENDAR