BEGIN:VCALENDAR
VERSION:2.0
PRODID:-//Vortex Jazz Club - ECPv4.1.3//NONSGML v1.0//EN
CALSCALE:GREGORIAN
METHOD:PUBLISH
X-WR-CALNAME:Vortex Jazz Club
X-ORIGINAL-URL:https://www.vortexjazz.co.uk
X-WR-CALDESC:Events for Vortex Jazz Club
BEGIN:VEVENT
DTSTART;TZID=UTC+0:20191210T200000
DTEND;TZID=UTC+0:20191210T230000
DTSTAMP:20260421T093300
CREATED:20191025T141816
LAST-MODIFIED:20191207T212718
UID:18001-1576008000-1576018800@www.vortexjazz.co.uk
SUMMARY:The Shape of Jazz To Come presents: Orphy Robinson & Mark Mondesir: “I heard you twice the first time” 
DESCRIPTION:Orphy Robinson (vibes / pan)\nMark Mondesir (drums)\n \n\nFor December The Shape of Jazz To Come (supported by the Dave Holland / Evan Parker Fund) proudly presents a duo with multi-instrumentalist Orphy Robinson (MBE) and drummer Mark Mondesir.\n\nNavigating all manner of infrasonic Dubtones\, & Rhythmical Subsonics in a “If you can’t hear you must feel” hippocampus universe of the unexpected – Where Digital - Analogue Meets spiritual Vibes and inspirational Drums.\n\nThe creative relationship between Orphy and Mark goes back to their time together in the seminal big band Jazz Warriors. Since then they have both gone on to broad and varied careers in this scene. But their connection is so close - way beyond just the creative - that it is a privilege to have them play together.\n\n \nMark Mondesir\nMondesir is a drummer that kick-started his pro-career in the mid-1980s when he turned twenty and began working with saxophonist Courtney Pine before going on to play with other notable jazzers such as Julian Joseph\, Jean Toussaint\, Kevin Eubanks\, Joe Zawinul\, John Scofield\, John McLaughlin\, McCoy Tyner\, Jeff Beck and Barbara Dennerlein and many others. Without doubt he is one of the UK‘s most extraordinary drumming talents. Born in East London\, Mondesir is largely self-taught\, a surprising fact to those who witness his incredible drum independence in action. Possessing a unique talent\, he combines technical velocity\, complexity and dexterity with an awesome inventiveness and imaginative dynamism\, all grounded in an instinctive feel for groove.\n\n \nOrphy Robinson\nAward-winning jazz composer and musician Orphy Robinson (MBE) is a multi-instrument musician – and plays the vibraphone\, keyboards\, saxophone\, trumpet\, piano\, marimba\, steelpans\, and drums. Robinson is one of the major figures of the jazz scene - he has released records on Blue Note and played with Don Cherry\, David Murray\, Henry Threadgill\, Courtney Pine\, Jazz Warriors and Andy Shepherd. Robinson works  across a variety of musical forms which include jazz\, free jazz\, free improvisation\, jazz fusion\, and funk music and is one of the founding members of our the Warriors International: Freedom jams that take place monthly at the Vortex. As a composer he has written music for television\, Film\, Theatre\, Opera and contemporary Classical music.\n\n#Bringyourears\n\n[gallery ids="18002\,18003"]\n\n[embed]https://youtu.be/yP7OVL6nPd0[/embed]\n\n[embed]https://youtu.be/-chCWDvkkTI[/embed]\n\n 
URL:https://www.vortexjazz.co.uk/event/the-shape-of-jazz-to-come-presents-orphy-robinson-mark-mondesir-i-heard-you-twice-the-first-time/
LOCATION:11 Gillett Square\, London\, N16 8AZ
GEO:51.5487082;-0.0764992
X-APPLE-STRUCTURED-LOCATION;VALUE=URI;X-ADDRESS=11 Gillett Square London N16 8AZ;X-APPLE-RADIUS=500;X-TITLE=11 Gillett Square:geo:-0.0764992,51.5487082
ATTACH;FMTTYPE=image/jpeg:https://www.vortexjazz.co.uk/wp-content/uploads/2019/10/Orphy-Mark.jpg
END:VEVENT
END:VCALENDAR