BEGIN:VCALENDAR
VERSION:2.0
PRODID:-//Vortex Jazz Club - ECPv4.1.3//NONSGML v1.0//EN
CALSCALE:GREGORIAN
METHOD:PUBLISH
X-WR-CALNAME:Vortex Jazz Club
X-ORIGINAL-URL:https://www.vortexjazz.co.uk
X-WR-CALDESC:Events for Vortex Jazz Club
BEGIN:VEVENT
DTSTART;TZID=UTC+0:20191212T200000
DTEND;TZID=UTC+0:20191212T230000
DTSTAMP:20260421T093502
CREATED:20191106T225830
LAST-MODIFIED:20191106T225830
UID:18067-1576180800-1576191600@www.vortexjazz.co.uk
SUMMARY:Deirdre Cartwright’s Picnic featuring Annie Whitehead
DESCRIPTION:The last in the Blow the Fuse Resistance season which celebrated 30 years of BTF 1989 – 2019.\n \nDeirdre Cartwright guitar\nAnnie Whitehead trombone\nAlison Rayner double bass\nWinston Clifford drums \n \nAnnie Whitehead is a trombone virtuoso best known for her engaging mix of African grooves\, blues\, ska and Ellingtonian expressionism. One of the UK's brightest and most versatile trombone players\, Annie Whitehead has worked with many well known artists and was a member of Chris MacGregor's Brotherhood of Breath\,The Carla Bley Very Big Band and the Penguin Cafe Orchestra and has played on over 50 albums.\n\n"The Sly and Robbie of British brass\, the woman everyone turns to when they want a class trombone player"\n\nDeirdre presented BBC TV’s groundbreaking 1983 series ‘Rockschool’. She was also a member of the internationally acclaimed 1980s women’s jazz group\, the Guest Stars. More recently she has written and recorded albums with the groups Emily Remembered and ARQ (Parliamentary Jazz Awards 'Ensemble of the Year' 2018). She has played with Tal Farlow\, toured with the Jamaican composer Marjorie Whylie\, presented on Radio 3 and founded Blow the Fuse with Alison Rayner.\n\n'Cartwright’s coolly undulating Grant Green shuffle groove is one of the understated pleasure of UK’s contemporary fusion.'\nJohn Fordham\n\nAn all star band with Blow the Fuse hosts Deirdre Cartwright guitar\, Alison Rayner on double bass\,Winston Clifford on drums and featuring Annie Whitehead. South African\, reggae\, funk and jazz influences abound in a mix of originals and iconic tunes.
URL:https://www.vortexjazz.co.uk/event/deirdre-cartwrights-picnic-featuring-annie-whitehead/
LOCATION:11 Gillett Square\, London\, N16 8AZ
GEO:51.5487082;-0.0764992
X-APPLE-STRUCTURED-LOCATION;VALUE=URI;X-ADDRESS=11 Gillett Square London N16 8AZ;X-APPLE-RADIUS=500;X-TITLE=11 Gillett Square:geo:-0.0764992,51.5487082
ATTACH;FMTTYPE=image/jpeg:https://www.vortexjazz.co.uk/wp-content/uploads/2019/11/Picnic_Vortex375-2.jpg
END:VEVENT
END:VCALENDAR