BEGIN:VCALENDAR
VERSION:2.0
PRODID:-//Vortex Jazz Club - ECPv4.1.3//NONSGML v1.0//EN
CALSCALE:GREGORIAN
METHOD:PUBLISH
X-WR-CALNAME:Vortex Jazz Club
X-ORIGINAL-URL:https://www.vortexjazz.co.uk
X-WR-CALDESC:Events for Vortex Jazz Club
BEGIN:VEVENT
DTSTART;TZID=UTC+0:20191213T200000
DTEND;TZID=UTC+0:20191213T230000
DTSTAMP:20260424T195726
CREATED:20191010T201415
LAST-MODIFIED:20191118T190050
UID:17939-1576267200-1576278000@www.vortexjazz.co.uk
SUMMARY:CALUM GOURLAY BIG BAND
DESCRIPTION:Our monthly residency continues for a big band initiated by bassist Calum Gourlay\, known for his great work with Thelonious\, an award-winning solo album and more. “I want it to be an inclusive band that represents the London that I know and love”.\n\nAn opportunity to check out some some of the best and younger musicians in London.
URL:https://www.vortexjazz.co.uk/event/calum-gourlay-big-band-19/
LOCATION:11 Gillett Square\, London\, N16 8AZ
GEO:51.5487082;-0.0764992
X-APPLE-STRUCTURED-LOCATION;VALUE=URI;X-ADDRESS=11 Gillett Square London N16 8AZ;X-APPLE-RADIUS=500;X-TITLE=11 Gillett Square:geo:-0.0764992,51.5487082
ATTACH;FMTTYPE=image/jpeg:https://www.vortexjazz.co.uk/wp-content/uploads/2019/10/CalumGourlay_InsideCoverBUTBLACKANDWHITE.jpg
END:VEVENT
END:VCALENDAR