BEGIN:VCALENDAR
VERSION:2.0
PRODID:-//Vortex Jazz Club - ECPv4.1.3//NONSGML v1.0//EN
CALSCALE:GREGORIAN
METHOD:PUBLISH
X-WR-CALNAME:Vortex Jazz Club
X-ORIGINAL-URL:https://www.vortexjazz.co.uk
X-WR-CALDESC:Events for Vortex Jazz Club
BEGIN:VEVENT
DTSTART;TZID=UTC+0:20191215T143000
DTEND;TZID=UTC+0:20191215T180000
DTSTAMP:20260424T195558
CREATED:20191101T162207
LAST-MODIFIED:20220209T103755
UID:18037-1576420200-1576432800@www.vortexjazz.co.uk
SUMMARY:MOPOMOSO presents: The Afternoon Sessions
DESCRIPTION:MOPOMOSO CHRISTMAS SHOW:\nEvery year Mopomoso hosts a cross section of players from the improvising music community in an end of year Christmas show. Around thirty or so musicians take part in a series of five to ten minute sets\, some serious some humourous. Both audience and participants are invited to bring food to share in a celebration of all things improvised. The programme will be changing up to and including the date of performance. A really great way to meet old friends and make new ones and to get a unique glimpse into this vibrant form of music making. So far expressing an interest in playing are :\nJez Parfett\, Pat Moonchy\, \, Lucky Liguori\, Steve Beresford\, Satoko Fukuda\, Paul Jolly\, Alan Wilkinson\, Paul Morris\, Pascal Marzan\, Matt Hutchinson\, Michael Mendones\, Ed Lucas\, Maggie Nicols\, Sid Thomas\, Sylvia Hallett\, Mike Skelton \, Beibei Wang\, John Eyles\, Professor Nonowsky\, Roland Ramanan\, Dave Tucker\, Kostas Chondros\, James Wykeham-Martin\, Benedict Taylor\, Isidora Edwards\, Adam Bohman\, Simon Littlefield\, James Bailey\n\nHere’s the Toy Laptop Quartet being very silly at the 2007 show!\n\n\n\n[embed]https://www.youtube.com/watch?v=bWsJqk4Onv8[/embed]\n\n
URL:https://www.vortexjazz.co.uk/event/mopomoso-presents-the-afternoon-sessions-7/
LOCATION:11 Gillett Square\, London\, N16 8AZ
GEO:51.5487082;-0.0764992
X-APPLE-STRUCTURED-LOCATION;VALUE=URI;X-ADDRESS=11 Gillett Square London N16 8AZ;X-APPLE-RADIUS=500;X-TITLE=11 Gillett Square:geo:-0.0764992,51.5487082
ATTACH;FMTTYPE=image/jpeg:https://www.vortexjazz.co.uk/wp-content/uploads/2014/06/17112014-JOHN-RUSSELL-Mopomoso-credit-Caroline-Forbes.jpg
END:VEVENT
BEGIN:VEVENT
DTSTART;TZID=UTC+0:20191215T193000
DTEND;TZID=UTC+0:20191215T230000
DTSTAMP:20260424T195558
CREATED:20191103T175650
LAST-MODIFIED:20191103T175931
UID:18045-1576438200-1576450800@www.vortexjazz.co.uk
SUMMARY:MOJO Christmas Party with guest Giulia Marelli
DESCRIPTION:Join the 17-piece Mo Jazz Orchestra for a festive evening of eclectic Big Band tunes. Joined by special guest singer Giulia Marelli\, their dynamic repertoire will include Tower of Power\, Pat Metheny\, Bob Mintzer and Gordon Goodwin’s epic Christmas Carols. Not to be missed!\n\nListen to a clip of MOJO and Giulia Marelli here:\n\n\n\nhttps://www.facebook.com/themojazzorchestra/
URL:https://www.vortexjazz.co.uk/event/mojo-christmas-party-with-guest-giulia-marelli/
LOCATION:11 Gillett Square\, London\, N16 8AZ
GEO:51.5487082;-0.0764992
X-APPLE-STRUCTURED-LOCATION;VALUE=URI;X-ADDRESS=11 Gillett Square London N16 8AZ;X-APPLE-RADIUS=500;X-TITLE=11 Gillett Square:geo:-0.0764992,51.5487082
ATTACH;FMTTYPE=image/jpeg:https://www.vortexjazz.co.uk/wp-content/uploads/2019/11/1.jpg
END:VEVENT
END:VCALENDAR