BEGIN:VCALENDAR
VERSION:2.0
PRODID:-//Vortex Jazz Club - ECPv4.1.3//NONSGML v1.0//EN
CALSCALE:GREGORIAN
METHOD:PUBLISH
X-WR-CALNAME:Vortex Jazz Club
X-ORIGINAL-URL:https://www.vortexjazz.co.uk
X-WR-CALDESC:Events for Vortex Jazz Club
BEGIN:VEVENT
DTSTART;TZID=UTC+0:20191221T200000
DTEND;TZID=UTC+0:20191221T230000
DTSTAMP:20260421T093432
CREATED:20191113T175950
LAST-MODIFIED:20191220T220239
UID:18094-1576958400-1576969200@www.vortexjazz.co.uk
SUMMARY:RADIOHEAD’S IN RAINBOWS REIMAGINED – RICK SIMPSON QUINTET
DESCRIPTION:After the success of OK Computer and Kid A\, in 2007 Radiohead turned out what is regarded as their third masterpiece - In Rainbows. This evening will feature a live performances of reworks of the music from Rick Simpson’s Quintet\, featuring Michael Chillingworth\, Tori Freestone\, Dave Whitford and Will Glaser.\n\n 
URL:https://www.vortexjazz.co.uk/event/radioheads-in-rainbows-reimagined-rick-simpson-quintet/
LOCATION:11 Gillett Square\, London\, N16 8AZ
GEO:51.5487082;-0.0764992
X-APPLE-STRUCTURED-LOCATION;VALUE=URI;X-ADDRESS=11 Gillett Square London N16 8AZ;X-APPLE-RADIUS=500;X-TITLE=11 Gillett Square:geo:-0.0764992,51.5487082
ATTACH;FMTTYPE=image/jpeg:https://www.vortexjazz.co.uk/wp-content/uploads/2019/11/A1MwaIeBpwL._SL1500_.jpg
END:VEVENT
BEGIN:VEVENT
DTSTART;TZID=UTC+0:20191221T220000
DTEND;TZID=UTC+0:20191223T010000
DTSTAMP:20260421T093432
CREATED:20191121T174648
LAST-MODIFIED:20191204T115947
UID:18140-1576965600-1577062800@www.vortexjazz.co.uk
SUMMARY:London Electric Blues Band
DESCRIPTION:\nBAND MEMBERS:\nLegendary drummer Winston Clifford won the British Jazz awards in 2018.\nKeys player Dorian Ford is one of the most in demand keys players in the UK.\nLeading bass players Jihad Darwish and Andy Hamill alternate as the LEB bassists.\nVocalist / lead guitarist Jon Collins.\n \n\n\nLondon Electric Blues band was formed in 2018 in Hackney by vocalist / lead guitarist Jon Collins.\nThe band plays a mix of covers and original material including the works of Bill Withers\, Buddy Guy\, BB King\, Albert Collins and Santana. The band provides Latin Blues flavours\, raw Chicago Blues sounds or the Southern Soul of Withers and other artists.\nOriginal material by Jon Collins includes 'There's A Girl Out There' and 'Got to Go Fixing'\nDalston Jazz Bar\, The Vortex Downstairs and The Tabernacle W11 are amongst some of the venues played by London Electric Blues.
URL:https://www.vortexjazz.co.uk/event/18140/
LOCATION:11 Gillett Square\, London\, N16 8AZ
GEO:51.5487082;-0.0764992
X-APPLE-STRUCTURED-LOCATION;VALUE=URI;X-ADDRESS=11 Gillett Square London N16 8AZ;X-APPLE-RADIUS=500;X-TITLE=11 Gillett Square:geo:-0.0764992,51.5487082
ATTACH;FMTTYPE=image/jpeg:https://www.vortexjazz.co.uk/wp-content/uploads/2019/11/IMG-20191124-WA000060773195.jpg
END:VEVENT
END:VCALENDAR