BEGIN:VCALENDAR
VERSION:2.0
PRODID:-//Vortex Jazz Club - ECPv4.1.3//NONSGML v1.0//EN
CALSCALE:GREGORIAN
METHOD:PUBLISH
X-WR-CALNAME:Vortex Jazz Club
X-ORIGINAL-URL:https://www.vortexjazz.co.uk
X-WR-CALDESC:Events for Vortex Jazz Club
BEGIN:VEVENT
DTSTART;TZID=UTC+0:20191231T193000
DTEND;TZID=UTC+0:20200101T020000
DTSTAMP:20260424T182100
CREATED:20191018T141555
LAST-MODIFIED:20191219T091935
UID:17987-1577820600-1577844000@www.vortexjazz.co.uk
SUMMARY:IAN SHAW’S NEW YEAR’S EVE BASH
DESCRIPTION:Always great in these intimate gigs\, Britain’s finest jazz vocalist\, producer and songsmith\, Ian Shaw hosts an exuberant party with a set of appropriately festive songs. Whether it’s his radical reworkings of alternative standards\, choice cuts from the Joni Mitchell songbook or his own witty or evocatively sad originals\, he is a peerless entertainer with a voice to die for. Winner of Parliamentary Jazz Award for best vocalist 2018.\n\nIn addition to Ian seeing us into 2020 in his inimitable style\, there will be a welcoming complimentary glass of bubbly. Doors at 7:30pm.\n\nDinner tickets are limited\, in keeping with the intimacy of the Vortex. Our dinner is specially prepared - A groaning board of a buffet\, with hot and cold dishes\, with vegetarians and vegans also catered for.\n\n \n\n\n\n \n\n \n\n[embed]https://youtu.be/-0hcLd8A1dA[/embed]\n\n 
URL:https://www.vortexjazz.co.uk/event/ian-shaws-new-years-eve-bash-2/
LOCATION:11 Gillett Square\, London\, N16 8AZ
GEO:51.5487082;-0.0764992
X-APPLE-STRUCTURED-LOCATION;VALUE=URI;X-ADDRESS=11 Gillett Square London N16 8AZ;X-APPLE-RADIUS=500;X-TITLE=11 Gillett Square:geo:-0.0764992,51.5487082
ATTACH;FMTTYPE=image/jpeg:https://www.vortexjazz.co.uk/wp-content/uploads/2018/10/ian-shaw.jpg
END:VEVENT
END:VCALENDAR