BEGIN:VCALENDAR
VERSION:2.0
PRODID:-//Vortex Jazz Club - ECPv4.1.3//NONSGML v1.0//EN
CALSCALE:GREGORIAN
METHOD:PUBLISH
X-WR-CALNAME:Vortex Jazz Club
X-ORIGINAL-URL:https://www.vortexjazz.co.uk
X-WR-CALDESC:Events for Vortex Jazz Club
BEGIN:VEVENT
DTSTART;TZID=UTC+0:20200116T200000
DTEND;TZID=UTC+0:20200116T230000
DTSTAMP:20260424T182730
CREATED:20191103T174700
LAST-MODIFIED:20191106T223525
UID:18043-1579204800-1579215600@www.vortexjazz.co.uk
SUMMARY:Matt Anderson Quartet
DESCRIPTION:“The writing on Rambling is outstanding: varied and imaginative... There's a beautiful warmth to Anderson's sound that suffuses the whole album.”\nThomas Rees\, Jazzwise\n\n“memorable melodies\, adeptly interwoven influences… unhurriedly stylish... (Anderson) can deliver an ear-catching tenor sax flourish\, but knows the value of understatement and uses it well. This is solidly-crafted small group jazz that knows its history\, but wears its learning lightly.”\nJon Turney\, London Jazz News\n\nLondon-based saxophonist and Dankworth Prize-winning composer Matt Anderson presents his quartet exploring new original material ahead of an upcoming album recording in 2020. They will also play music from their 2018 critically-acclaimed release ‘Rambling\,’ which won praise from the likes of Jazzwise\, BBC Radio 3 and Jazz FM for its “outstanding\,” melodic writing and “uniformly excellent playing”\, all fronted by Anderson’s warm tenor sound.\n\nThe band also features Alberto Palau (Charles McPherson\, Jean Toussaint\, Peter Bernstein) on piano\, Jay Davis (Big Bad Wolf\, Alex Hitchcock Quintet) on drums and Will Harris (Michelson Morley\, Alan Barnes\, Dave Newton) on double-bass. Rooted in a deep love and respect for the jazz tradition from Sonny Rollins to Wayne Shorter\, Matt’s music also explores influences from the folk music of his rural upbringing in the North Yorkshire Moors\, alongside bluesy\, country strains reminiscent of Bill Frisell and British and European jazz.\n\nThis tour comes off the back of recent performances by the band at Jamboree\, Barcelona and Jimmy Glass\, Valencia\, as well as a 22-date U.K. tour in 2018 and shows at Amsterdam’s Bimhuis and The Vortex. The new album follows Matt's debut\, Wild Flower\, which was described by Selwyn Harris of Jazzwise as "their own unique stamp on Shorter's very personal repertoire... of a quality that resonates with its inspirational source... Enjoyably un-pretentious."\n\nLine-up:\n\nMatt Anderson - Tenor and Soprano Saxophones\nAlberto Palau Garcera - Piano\nWill Harris - Double-Bass\nJay Davis - Drums\n\nRambling by Matt Anderson Quartet\n\n
URL:https://www.vortexjazz.co.uk/event/matt-anderson-quartet/
LOCATION:11 Gillett Square\, London\, N16 8AZ
GEO:51.5487082;-0.0764992
X-APPLE-STRUCTURED-LOCATION;VALUE=URI;X-ADDRESS=11 Gillett Square London N16 8AZ;X-APPLE-RADIUS=500;X-TITLE=11 Gillett Square:geo:-0.0764992,51.5487082
ATTACH;FMTTYPE=image/jpeg:https://www.vortexjazz.co.uk/wp-content/uploads/2019/11/Matt-Anderson-Quartet-Banner.jpg
END:VEVENT
END:VCALENDAR