BEGIN:VCALENDAR
VERSION:2.0
PRODID:-//Vortex Jazz Club - ECPv4.1.3//NONSGML v1.0//EN
CALSCALE:GREGORIAN
METHOD:PUBLISH
X-WR-CALNAME:Vortex Jazz Club
X-ORIGINAL-URL:https://www.vortexjazz.co.uk
X-WR-CALDESC:Events for Vortex Jazz Club
BEGIN:VEVENT
DTSTART;TZID=UTC+0:20200123T200000
DTEND;TZID=UTC+0:20200123T230000
DTSTAMP:20260424T181912
CREATED:20191208T211016
LAST-MODIFIED:20200110T141324
UID:18281-1579809600-1579820400@www.vortexjazz.co.uk
SUMMARY:EVAN PARKER INVITES…
DESCRIPTION:Joining Parker this month are free spirits Mark Sanders and John Edwards.\n\nThe spectrum of music played by Evan Parker ranges from “free jazz” to “free improvisation”. Each month Evan invites different guests to play with him.\n\nEvan Parker (born in Bristol\, 1944) took up the saxophone at the age of 14. Early influences included Paul Desmond\, Eric Dolphy\, and above all John Coltrane. After witnessing the Cecil Taylor Trio with Jimmy Lyons and Sunny Murray in full flood in New York in 1962 he was\, as he says\, “marked for life”\, converted to the intensities of free jazz. Back in England\, he gradually found players to share his fervour\, including John Stevens and the members of the Spontaneous Music Ensemble – Dave Holland\, Kenny Wheeler\, Paul Rutherford\, Derek Bailey and others – and\, importantly\, Peter Kowald\, who made the introductions to the German scene. Parker played on Peter Brötzmann’s still dangerous ‘Machine Gun’ in ’68 and\, before the 60s had run their course\, had also recorded with Manfred Schoof and Pierre Favre. In 1970 he joined the Alex von Schlippenbach Trio\, of which he is still a member\, and subsequently the Globe Unity Orchestra. By this point the hallmarks of his unique style were established\, his combinations of circular breathing\, tonguing\, rhythm patterns\, overtones and polytones making his sound instantly recognisable.\n\nEvan Parker appears on more than 200 recordings on labels including ECM\, FMP\, Emanem\, Incus\, Ogun\, Po Torch\, Okka\, Island\, CBS\, RCA etc. In 2001\, he founded his own label\, Psi.
URL:https://www.vortexjazz.co.uk/event/evan-parker-invites-2/
LOCATION:11 Gillett Square\, London\, N16 8AZ
GEO:51.5487082;-0.0764992
X-APPLE-STRUCTURED-LOCATION;VALUE=URI;X-ADDRESS=11 Gillett Square London N16 8AZ;X-APPLE-RADIUS=500;X-TITLE=11 Gillett Square:geo:-0.0764992,51.5487082
ATTACH;FMTTYPE=image/jpeg:https://www.vortexjazz.co.uk/wp-content/uploads/2019/05/evan-parker-by-dawid-laskowski-2014_page_image-750x525.jpg
END:VEVENT
BEGIN:VEVENT
DTSTART;TZID=UTC+0:20200123T200000
DTEND;TZID=UTC+0:20200123T230000
DTSTAMP:20260424T181912
CREATED:20200118T190856
LAST-MODIFIED:20200123T162023
UID:18434-1579809600-1579820400@www.vortexjazz.co.uk
SUMMARY:Words and Jazz
DESCRIPTION:Words & Jazz is proud to present a blistering night of the best in contemporary poetry and jazz.  Come to the cosy bar downstairs at the Vortex to experience this 'outstanding summit between contemporary poets and musicians' (The Independent) .\n\n \n\nMusic will be by Bruno Heinen with James Kitchman.
URL:https://www.vortexjazz.co.uk/event/words-and-jazz-11/
LOCATION:11 Gillett Square\, London\, N16 8AZ
GEO:51.5487082;-0.0764992
X-APPLE-STRUCTURED-LOCATION;VALUE=URI;X-ADDRESS=11 Gillett Square London N16 8AZ;X-APPLE-RADIUS=500;X-TITLE=11 Gillett Square:geo:-0.0764992,51.5487082
ATTACH;FMTTYPE=image/jpeg:https://www.vortexjazz.co.uk/wp-content/uploads/2018/11/Nicki-Heinen-750x500.jpg
END:VEVENT
END:VCALENDAR