BEGIN:VCALENDAR
VERSION:2.0
PRODID:-//Vortex Jazz Club - ECPv4.1.3//NONSGML v1.0//EN
CALSCALE:GREGORIAN
METHOD:PUBLISH
X-WR-CALNAME:Vortex Jazz Club
X-ORIGINAL-URL:https://www.vortexjazz.co.uk
X-WR-CALDESC:Events for Vortex Jazz Club
BEGIN:VEVENT
DTSTART;TZID=UTC+0:20200128T200000
DTEND;TZID=UTC+0:20200128T230000
DTSTAMP:20260420T083507
CREATED:20191103T172906
LAST-MODIFIED:20191103T172906
UID:18041-1580241600-1580252400@www.vortexjazz.co.uk
SUMMARY:Run Logan Run
DESCRIPTION:Line-up:\nAndrew Neil Hayes - Saxophone & electronics\nMatt Brown - Drum kit & percussion\n\nRun Logan Run are a head on collision of pounding tribal drums and screaming guttural saxophone. Architects of intense contrast the duo’s diverse and precise instrumentation regularly flirts with fragility and raw power.\n\nFormed through a shared passion for improvisation\, spiritual jazz and heavier experimental music\, they are Andrew Neil Hayes (saxophones / electronics) and Matt Brown (drum kit / percussion)\, and have been authoring their own narrative in the new wave of crossover jazz\, whilst touring the UK extensively\, sharing stages with the likes of Colin Stetson\, Melt Yourself Down\, Shabaka Hutchings\, and The Bad Plus. In 2019 they received the Montreux Jazz Talent Award for their performance at the festival.\n\nTheir debut album was recorded live at Stoke Newington’s Total Refreshment Centre\, which has been\, and continues to be\, a prominent platform for promoting\, recording and releasing some of the best new talent from the British underground. It was produced by Danalogue & Betamax (The Comet Is Coming) instilling further idiosyncratic dynamics into Run Logan Run’s already distinctive sound.\n\nhttps://www.runloganrun.com\nhttps://twitter.com/RunLoganRunUK\nhttps://www.facebook.com/runloganrunmusic\nhttps://www.instagram.com/run_logan_run\n\n
URL:https://www.vortexjazz.co.uk/event/run-logan-run/
LOCATION:11 Gillett Square\, London\, N16 8AZ
GEO:51.5487082;-0.0764992
X-APPLE-STRUCTURED-LOCATION;VALUE=URI;X-ADDRESS=11 Gillett Square London N16 8AZ;X-APPLE-RADIUS=500;X-TITLE=11 Gillett Square:geo:-0.0764992,51.5487082
ATTACH;FMTTYPE=image/png:https://www.vortexjazz.co.uk/wp-content/uploads/2019/11/Run-Logan-Run-2019-Photo-credit-Chris-Lucas-Run-Logan-Run.png
END:VEVENT
END:VCALENDAR