BEGIN:VCALENDAR
VERSION:2.0
PRODID:-//Vortex Jazz Club - ECPv4.1.3//NONSGML v1.0//EN
CALSCALE:GREGORIAN
METHOD:PUBLISH
X-WR-CALNAME:Vortex Jazz Club
X-ORIGINAL-URL:https://www.vortexjazz.co.uk
X-WR-CALDESC:Events for Vortex Jazz Club
BEGIN:VEVENT
DTSTART;TZID=UTC+0:20200222T200000
DTEND;TZID=UTC+0:20200222T230000
DTSTAMP:20260424T163856
CREATED:20191118T191306
LAST-MODIFIED:20191227T163648
UID:18129-1582401600-1582412400@www.vortexjazz.co.uk
SUMMARY:Henry Lowther’s Still Waters
DESCRIPTION:Still Waters was born out a long association and friendship going back 40 years between myself and Britain's premiere bassist Dave Green. We both felt that the time had arrived to play music of our choice together with some of the finest jazz musicians working in Britain today. As a result Still Waters is now one of the most accomplished and creative bands around.\nAlthough a classic quintet of two front line and rhythm\, Still Waters plays radical and original music\, ranging from gentle\, quietly pastoral and melodic music\, reflecting the band’s name\, through to dynamic\, free improvisation.\n\nI am immensely proud of the band. The main thing to say about it is that it is a BAND and not just a collection of individual musicians; in other words the whole is greater than the sum of its parts. The level of creativity\, adventure and interplay on gigs never ceases to astonish me; no two gigs are ever the same and this is truer of Still Waters than of any other band I've ever played in.\n\nDave Green\, is without doubt the foundation of Still Waters. He has a way of finding the right thing to do at exactly the right time. Whatever else goes on around him he always keeps it right there\, allowing everybody else maximum freedom.\nPaul Clarvis is the most idiosyncratic\, original and creative drummer in British jazz who\, together with pianist Barry Green's ability to move from straight ahead playing to wayward free improvisation\, makes the rhythm section an absolute joy. I love its ability to go anywhere it chooses to go.\n\nMy partner on the front line\, Pete Hurt\, is not only a wonderful and inventive saxophone player but also an all round accomplished master musician and one of Britain’s very greatest composers of music for big band.\n\nwww.henrylowther.com\n\nLine-up:\n\nHenry Lowther - Trumpet\nPete Hurt - Tenor Saxophone\nBarry Green - Piano\nDave Green - Double Bass\nPaul Clarvis - Drums
URL:https://www.vortexjazz.co.uk/event/still-waters/
LOCATION:11 Gillett Square\, London\, N16 8AZ
GEO:51.5487082;-0.0764992
X-APPLE-STRUCTURED-LOCATION;VALUE=URI;X-ADDRESS=11 Gillett Square London N16 8AZ;X-APPLE-RADIUS=500;X-TITLE=11 Gillett Square:geo:-0.0764992,51.5487082
ATTACH;FMTTYPE=image/jpeg:https://www.vortexjazz.co.uk/wp-content/uploads/2019/11/MSJ_6438_preview-Henry-Lowther.jpeg
END:VEVENT
BEGIN:VEVENT
DTSTART;TZID=UTC+0:20200222T210000
DTEND;TZID=UTC+0:20200222T210000
DTSTAMP:20260424T163856
CREATED:20200214T115606
LAST-MODIFIED:20200214T115622
UID:18531-1582405200-1582405200@www.vortexjazz.co.uk
SUMMARY:IMPROV NIGHTS – 1ST BIRTHDAY
DESCRIPTION:\n"IMPROV NIGHTS" is a monthly event at the Vortex Downstairs curated by London-based drummer and percussionist Stefano Ancora.\n\n\n\nLIVE DUO and TRIO sets of improvised music\, with a different set-up every month\, then followed by an open jam session and tasty record selections till late...\n\n\n\nALL IN A REAL-TIME MUSICAL CONVERSATION!!\n\n\n\nLine-up soon TBC\n\n\n\nFREE ENTRY before 10pm\, 5£ after\n\n\n\nVortex bar and kitchen open all evening!!!\n
URL:https://www.vortexjazz.co.uk/event/improv-nights-1st-birthday-2/
LOCATION:11 Gillett Square\, London\, N16 8AZ
GEO:51.5487082;-0.0764992
X-APPLE-STRUCTURED-LOCATION;VALUE=URI;X-ADDRESS=11 Gillett Square London N16 8AZ;X-APPLE-RADIUS=500;X-TITLE=11 Gillett Square:geo:-0.0764992,51.5487082
ATTACH;FMTTYPE=image/jpeg:https://www.vortexjazz.co.uk/wp-content/uploads/2019/03/Improv-Nights.jpg
END:VEVENT
END:VCALENDAR