BEGIN:VCALENDAR
VERSION:2.0
PRODID:-//Vortex Jazz Club - ECPv4.1.3//NONSGML v1.0//EN
CALSCALE:GREGORIAN
METHOD:PUBLISH
X-WR-CALNAME:Vortex Jazz Club
X-ORIGINAL-URL:https://www.vortexjazz.co.uk
X-WR-CALDESC:Events for Vortex Jazz Club
BEGIN:VEVENT
DTSTART;TZID=UTC+0:20210818T080000
DTEND;TZID=UTC+0:20210818T170000
DTSTAMP:20260421T083301
CREATED:20210817T084756
LAST-MODIFIED:20210817T085510
UID:20383-1629273600-1629306000@www.vortexjazz.co.uk
SUMMARY:Vortex discussion 66 - time to (re)radicalise?
DESCRIPTION:The Vortex discussion this week focuses on how we can make sure that our music is heard and supported. With long-term funding at risk\, with Brexit and the pandemic potentially reducing monies for our (innovative) music\, we need to be heard.\n\nHow do we achieve this? For the past years\, we have evolved a generation of great quality imoricvising musicians. But has this been at the expense of being heard and making issues heard. This of course has been done in the past in this genre. What can we do to reviatalise this too? Or is it now unnecessary?\n\n———————————————————-\n\nOliver Weindling is inviting you to a scheduled Zoom meeting.\n\nTopic: Oliver Weindling's Personal Meeting Room\n\nJoin Zoom Meeting\nhttps://us02web.zoom.us/j/4934035526\n\nMeeting ID: 493 403 5526\n\n 
URL:https://www.vortexjazz.co.uk/event/vortex-discussion-66-time-to-reradicalise/
LOCATION:11 Gillett Square\, London\, N16 8AZ
GEO:51.5487082;-0.0764992
X-APPLE-STRUCTURED-LOCATION;VALUE=URI;X-ADDRESS=11 Gillett Square London N16 8AZ;X-APPLE-RADIUS=500;X-TITLE=11 Gillett Square:geo:-0.0764992,51.5487082
ATTACH;FMTTYPE=image/jpeg:https://www.vortexjazz.co.uk/wp-content/uploads/2021/08/83B4464D-B73C-4E60-A70D-555B8DB05340.jpeg
END:VEVENT
BEGIN:VEVENT
DTSTART;TZID=UTC+0:20210818T190000
DTEND;TZID=UTC+0:20210818T203000
DTSTAMP:20260421T083301
CREATED:20210726T211717
LAST-MODIFIED:20210726T211717
UID:20310-1629313200-1629318600@www.vortexjazz.co.uk
SUMMARY:Jamie Murray Trio (1st show)
DESCRIPTION:Line-up:\nJamie Murray - drums\n\nTom Ollendorff - guitar\n\nMirko Scarcia - bass\n\n \nAbout\n \nJAMIE MURRAY\nJamie Murray is one of the great upcoming drummers on the scene today. A forward thinking and conceptual player with a solid groove style yet he has an open-minded approach to free experimentation. His performances are always fresh and exhilarating. Jamie has a strong sense of writing\, his compositions are personal and original with an Electronic/Jazz/Fusion style attached to them.\nTOM OLLENDORFF\nTom Ollendorff is fast becoming one of the best known jazz guitarists in the UK. He has performed with artists including Bill McHenry\, Ari Hoenig and Jeff Williams\, Geoff Simkins and Huw Warren.\n‘For this listener\, Ollendorf’s sensitivity to space and nuance\, and the expressive economy of his phrasing sometimes recalls the work of the legendary graceful Jim Hall (John Fordham).’\nMIRKO SCARCIA\nBased in the UK since the end of 2019\, in over two decades bassist and double bassist Mirko Scarcia performed with several prominent artists in a variety of genres\, including some of the top names in Jazz such as Steve Grossman\, Ronnie Cuber\, Jessie Davies\, Jerry Bergonzi\, Rick Margitza\, Paolo Fresu\, Fabrizio Bosso\, Flavio Boltro\, Shawn Monteiro\, Denise King\, Gregory Hutchinson\, Joe Farnsworth\, Willy Jones III\, Renato Chicco\, Jim Rotondi\, Stjeopko Gut to name a few. He has also graduated in Classical Double Bass and Composition and has been working as a composer\, arranger and orchestrator with some of the most important icons of Italian Music and Symphony Orchestras.\n \nINSTRUCTIONS FOR AUDIENCE MEMBERS – PLEASE READ\nWelcome to the Vortex. Although the government is relaxing its Covid restrictions on July 19th 2021 the Vortex will continue to operate measures to protect users of the premises.\nPlease note the following:\n\n\n \tPlease buy tickets in advance as there will be no door sales.\n \tWe ask you not to attend gigs if you have or think you may have any Covid-19 symptoms. If you can’t make a gig because you have to self-isolate then just get in touch by filling out this form and we’ll give you a voucher for another gig.\n \tWe will ask you on entry to sign in for NHS Test and Trace either using the NHS Covid app or manually\n \tThere will be no standing at gigs. Everyone who books a ticket will be allocated a seat\, but we cannot guarantee that you will have a table.\n \tOrders for drinks and snacks will be taken and paid for using the Butlr app which you can download on arrival. (If you do not have a smartphone then your order will be taken at the table and you can make a contactless payment. We do not accept cash.)\n \tWe ask that everyone wears a mask when moving around inside the building.\n \tAutomatic hand sanitiser stations are provided at various places within the building and we encourage regular use of hand sanitiser.\n \tFull details of the measures that we are taking to prevent transmission of Covid are set out in our risk assessment and management plan which can be found on our website.\n
URL:https://www.vortexjazz.co.uk/event/jamie-murray-trio-1st-show/
LOCATION:11 Gillett Square\, London\, N16 8AZ
GEO:51.5487082;-0.0764992
X-APPLE-STRUCTURED-LOCATION;VALUE=URI;X-ADDRESS=11 Gillett Square London N16 8AZ;X-APPLE-RADIUS=500;X-TITLE=11 Gillett Square:geo:-0.0764992,51.5487082
ATTACH;FMTTYPE=image/jpeg:https://www.vortexjazz.co.uk/wp-content/uploads/2021/07/Jamie-Murray.jpg
END:VEVENT
BEGIN:VEVENT
DTSTART;TZID=UTC+0:20210818T210000
DTEND;TZID=UTC+0:20210818T223000
DTSTAMP:20260421T083301
CREATED:20210726T211916
LAST-MODIFIED:20210726T211916
UID:20317-1629320400-1629325800@www.vortexjazz.co.uk
SUMMARY:Jamie Murray Trio (2nd show)
DESCRIPTION:Line-up:\nJamie Murray - drums\n\nTom Ollendorff - guitar\n\nMirko Scarcia - bass\n\n \nAbout\n \nJAMIE MURRAY\nJamie Murray is one of the great upcoming drummers on the scene today. A forward thinking and conceptual player with a solid groove style yet he has an open-minded approach to free experimentation. His performances are always fresh and exhilarating. Jamie has a strong sense of writing\, his compositions are personal and original with an Electronic/Jazz/Fusion style attached to them.\nTOM OLLENDORFF\nTom Ollendorff is fast becoming one of the best known jazz guitarists in the UK. He has performed with artists including Bill McHenry\, Ari Hoenig and Jeff Williams\, Geoff Simkins and Huw Warren.\n‘For this listener\, Ollendorf’s sensitivity to space and nuance\, and the expressive economy of his phrasing sometimes recalls the work of the legendary graceful Jim Hall (John Fordham).’\nMIRKO SCARCIA\nBased in the UK since the end of 2019\, in over two decades bassist and double bassist Mirko Scarcia performed with several prominent artists in a variety of genres\, including some of the top names in Jazz such as Steve Grossman\, Ronnie Cuber\, Jessie Davies\, Jerry Bergonzi\, Rick Margitza\, Paolo Fresu\, Fabrizio Bosso\, Flavio Boltro\, Shawn Monteiro\, Denise King\, Gregory Hutchinson\, Joe Farnsworth\, Willy Jones III\, Renato Chicco\, Jim Rotondi\, Stjeopko Gut to name a few. He has also graduated in Classical Double Bass and Composition and has been working as a composer\, arranger and orchestrator with some of the most important icons of Italian Music and Symphony Orchestras.\n \nINSTRUCTIONS FOR AUDIENCE MEMBERS – PLEASE READ\nWelcome to the Vortex. Although the government is relaxing its Covid restrictions on July 19th 2021 the Vortex will continue to operate measures to protect users of the premises.\nPlease note the following:\n\n\n \tPlease buy tickets in advance as there will be no door sales.\n \tWe ask you not to attend gigs if you have or think you may have any Covid-19 symptoms. If you can’t make a gig because you have to self-isolate then just get in touch by filling out this form and we’ll give you a voucher for another gig.\n \tWe will ask you on entry to sign in for NHS Test and Trace either using the NHS Covid app or manually\n \tThere will be no standing at gigs. Everyone who books a ticket will be allocated a seat\, but we cannot guarantee that you will have a table.\n \tOrders for drinks and snacks will be taken and paid for using the Butlr app which you can download on arrival. (If you do not have a smartphone then your order will be taken at the table and you can make a contactless payment. We do not accept cash.)\n \tWe ask that everyone wears a mask when moving around inside the building.\n \tAutomatic hand sanitiser stations are provided at various places within the building and we encourage regular use of hand sanitiser.\n \tFull details of the measures that we are taking to prevent transmission of Covid are set out in our risk assessment and management plan which can be found on our website.\n
URL:https://www.vortexjazz.co.uk/event/jamie-murray-trio-2nd-show/
LOCATION:11 Gillett Square\, London\, N16 8AZ
GEO:51.5487082;-0.0764992
X-APPLE-STRUCTURED-LOCATION;VALUE=URI;X-ADDRESS=11 Gillett Square London N16 8AZ;X-APPLE-RADIUS=500;X-TITLE=11 Gillett Square:geo:-0.0764992,51.5487082
ATTACH;FMTTYPE=image/jpeg:https://www.vortexjazz.co.uk/wp-content/uploads/2021/07/Jamie-Murray.jpg
END:VEVENT
END:VCALENDAR