BEGIN:VCALENDAR
VERSION:2.0
PRODID:-//Vortex Jazz Club - ECPv4.1.3//NONSGML v1.0//EN
CALSCALE:GREGORIAN
METHOD:PUBLISH
X-WR-CALNAME:Vortex Jazz Club
X-ORIGINAL-URL:https://www.vortexjazz.co.uk
X-WR-CALDESC:Events for Vortex Jazz Club
BEGIN:VEVENT
DTSTART;TZID=UTC+0:20260110T194500
DTEND;TZID=UTC+0:20260110T223000
DTSTAMP:20260420T075615
CREATED:20251216T111029
LAST-MODIFIED:20260106T131815
UID:26711-1768074300-1768084200@www.vortexjazz.co.uk
SUMMARY:Young Pilgrims
DESCRIPTION:Doors 7:45 PM\, Music 8:30 PM - 2 set(s) of music\n \nLine-up\nRichard Foote – Trombone\nKieran McLeod – Trombone\nSean Gibbs – Trumpet\nChristos Stylianides – Trumpet\nSam Warner – Trumpet\nChris Maddock – Baritone Saxophone\nRobbie Robson – Sousaphone\nJonathan Silk – Drum kit\nEuan Palmer – Drum kit\n\nAbout\nJazz influenced\, rock induced 9-piece brass band Young Pilgrims have found themselves drawing fans from across Europe and beyond with their intense live performances - from beer-soaked dance floors to London’s South Bank\, the Paris Jazz Festival to Love Supreme Festival.\n\nWith improvising invention set against their infectious melodies\, the band have been together since 2013 and take their inspiration from renegades\, Scottish cities\, skateboarding and even accidental incursions into local murky canals.\nJazzwise - 'This is a markedly superior addition to the brass band canon: consistently invigorating on record\, they are a riot to experience live'\n \n\n[embed]https://www.youtube.com/watch?v=Vx4t4B9sqw8[/embed]
URL:https://www.vortexjazz.co.uk/event/young-pilgrims/
LOCATION:11 Gillett Square\, London\, N16 8AZ
GEO:51.5487082;-0.0764992
X-APPLE-STRUCTURED-LOCATION;VALUE=URI;X-ADDRESS=11 Gillett Square London N16 8AZ;X-APPLE-RADIUS=500;X-TITLE=11 Gillett Square:geo:-0.0764992,51.5487082
ATTACH;FMTTYPE=image/jpeg:https://www.vortexjazz.co.uk/wp-content/uploads/2025/12/Young-Pilgrims.jpeg
END:VEVENT
END:VCALENDAR