BEGIN:VCALENDAR
VERSION:2.0
PRODID:-//Vortex Jazz Club - ECPv4.1.3//NONSGML v1.0//EN
CALSCALE:GREGORIAN
METHOD:PUBLISH
X-WR-CALNAME:Vortex Jazz Club
X-ORIGINAL-URL:https://www.vortexjazz.co.uk
X-WR-CALDESC:Events for Vortex Jazz Club
BEGIN:VEVENT
DTSTART;TZID=UTC+0:20260114T194500
DTEND;TZID=UTC+0:20260114T223000
DTSTAMP:20260420T093924
CREATED:20251117T173457
LAST-MODIFIED:20251117T173457
UID:26605-1768419900-1768429800@www.vortexjazz.co.uk
SUMMARY:Nishla Smith
DESCRIPTION:Doors 7:45 PM\, Music 8:30 PM - 2 set(s) of music\n \nLine-up:\nNishla Smith - Voice\nAaron Wood - Trumpet\nTom Harris - Piano\nJosh Vadiveloo - Double bass\nKai Chareunsy - Drum kit\n\n \nAbout\nStorytelling lies at the very heart of Nishla Smith’s music making\, and since the release of her critically lauded debut album\, the evolving circumstances of her own life have provided the inspiration for the stories that lie at the heart of this new collection. it’s getting late you’d better go home was written during a period of emotional turmoil. From deeply personal concerns\, the stories expand outwards to address universal themes of belonging and of absence\, of closeness and separation\, of yearning and ambition.\n\nThe music of it’s getting late is adventurous and eclectic\, moving from gospel-inflected poignant warmth\, to vaudevillian bluesy swagger to feather-light bossa beats and Bacharach-style harmony. While the recorded album features an expansive cast of the some of the UK’s most empathetic and adventurous musicians\, for the live tour\, Nishla has distilled the group to a quintet of her closest collaborators– longtime duo partner pianist Tom Harris\, the superlative rhythm team of Josh Vadiveloo and Kai Chareunsy\, and sensitive trumpeter Aaron Wood. At the centre of everything is Nishla’s remarkable voice\, always poised and in control\, but equally capable of revealing intimacy and powerful emotional charge.\n\nNishla is a Peter Whittingham Jazz Award Winner\, International Songwriting Competition Award Winner and an alumni of London Jazz Festival’s flagship Take Five programme. She played the titular bird in Atri Banerjee’s production of ‘Kes’\, for which she won a UK Theatre Award\, and performed ‘The Jazz Singer’ in ‘A Taste of Honey’ at the Royal Exchange Theatre\, Manchester. She is currently writing a stage musical with Australian producers Antipodes Theatre and support from the Stephen Oliver Award\, and spent 2025 touring internationally\, performing debut shows in Australia\, New Zealand\, China\, Singapore\, Thailand and Norway.\n\nit’s getting late you’d better go home was made with support from Arts Council England’s Lottery Projects Fund\, and will be released on Whirlwind Recordings in Spring 2026.\n\nCopy Eddie Myer/ Nishla Smith.\n\nPhotographs Craig Fleming.\n\n[embed]https://youtu.be/JHop7Q9dBYI?si=TRVRBWSQ4B2HgeKd https://www.youtube.com/watch?v=ohihhquYt8A[/embed]
URL:https://www.vortexjazz.co.uk/event/nishla-smith/
LOCATION:11 Gillett Square\, London\, N16 8AZ
GEO:51.5487082;-0.0764992
X-APPLE-STRUCTURED-LOCATION;VALUE=URI;X-ADDRESS=11 Gillett Square London N16 8AZ;X-APPLE-RADIUS=500;X-TITLE=11 Gillett Square:geo:-0.0764992,51.5487082
ATTACH;FMTTYPE=image/jpeg:https://www.vortexjazz.co.uk/wp-content/uploads/2025/11/Nishla-Smith.jpeg
END:VEVENT
END:VCALENDAR