BEGIN:VCALENDAR
VERSION:2.0
PRODID:-//Vortex Jazz Club - ECPv4.1.3//NONSGML v1.0//EN
CALSCALE:GREGORIAN
METHOD:PUBLISH
X-WR-CALNAME:Vortex Jazz Club
X-ORIGINAL-URL:https://www.vortexjazz.co.uk
X-WR-CALDESC:Events for Vortex Jazz Club
BEGIN:VEVENT
DTSTART;TZID=UTC+0:20260122T194500
DTEND;TZID=UTC+0:20260122T223000
DTSTAMP:20260420T075326
CREATED:20251126T203344
LAST-MODIFIED:20251126T203344
UID:26657-1769111100-1769121000@www.vortexjazz.co.uk
SUMMARY:Di-Cysgodion
DESCRIPTION:Doors 7:45 PM\, Music 8:30 PM - 2 set(s) of music\n \nLine-up:\nHuw V Williams - Bass guitar\nMike De Souza - Guitar\nBilly Marrows - guitar\nJay Davis - Drum kit\n\n \nAbout\nDi-Cysgodion\, led by Welsh bass player/composer HUW V WILLIAMS. The line up consists of Mike De Souza and Billy Marrows both on electric guitar\, Jay Davis on drums and Huw V Williams completing the line up on electric bass. Williams goes back to his rock roots with this instrumentation to explore the sonic pallet from the view of a jazz improvisor/composer.\n\nHaving previously led projects with no harmony instruments\, Huw decided to have a group which deals with harmony head on\, exploring dense harmonic voicings paired with infectious rhythms and live stereo guitars. This music comes from a huge pool of influences\, including Deerhoof\, Ravel\, Thelonious Monk\, Super Furry Animals\, Ornette Coleman\, Hermeto and everything inbetween. A musical spectacle not to be missed.\n\n \n\n[embed]https://www.youtube.com/watch?time_continue=2&v=yPxuyubvDSQ&embeds_referring_euri=https%3A%2F%2Fefglondonjazzfestival.org.uk%2F&embeds_referring_origin=https%3A%2F%2Fefglondonjazzfestival.org.uk&source_ve_path=MjM4NTE[/embed]
URL:https://www.vortexjazz.co.uk/event/di-cysgodion-2/
LOCATION:11 Gillett Square\, London\, N16 8AZ
GEO:51.5487082;-0.0764992
X-APPLE-STRUCTURED-LOCATION;VALUE=URI;X-ADDRESS=11 Gillett Square London N16 8AZ;X-APPLE-RADIUS=500;X-TITLE=11 Gillett Square:geo:-0.0764992,51.5487082
ATTACH;FMTTYPE=image/jpeg:https://www.vortexjazz.co.uk/wp-content/uploads/2025/11/Di-Cysgodion.jpeg
END:VEVENT
END:VCALENDAR