BEGIN:VCALENDAR
VERSION:2.0
PRODID:-//Vortex Jazz Club - ECPv4.1.3//NONSGML v1.0//EN
CALSCALE:GREGORIAN
METHOD:PUBLISH
X-WR-CALNAME:Vortex Jazz Club
X-ORIGINAL-URL:https://www.vortexjazz.co.uk
X-WR-CALDESC:Events for Vortex Jazz Club
BEGIN:VEVENT
DTSTART;TZID=UTC+0:20260124T193000
DTEND;TZID=UTC+0:20260124T220000
DTSTAMP:20260420T080155
CREATED:20251118T005220
LAST-MODIFIED:20260121T134440
UID:26614-1769283000-1769292000@www.vortexjazz.co.uk
SUMMARY:Corrie Dick Impossible Things
DESCRIPTION:Doors 7:30 PM\, Music 8:00 PM - 2 set(s) of music\n \nLine-up:\nCorrie Dick - Drums\nAlice Zawadzki - Voice\nLaura Jurd - Trumpet\nFelix Higginbottom - Drum kit\nMatt Robinson - Piano\nCalum Gourlay - Bass guitar\n\nMore TBC\n\n \nAbout\nAt the rhythmic epicentre of innovative British jazz is Corrie Dick\, a musician and composer specialising in euphoric\, sonically-inventive drumming. Lauded for his dynamism\, melodic slant and playfully subversive take on genre\, he has long been central to trumpeter-composer Laura Jurd’s projects\, provides propulsive rhythm in Rob Luft’s Ensemble\, and collaborates widely including with Cahalen Morrison and Sam Amidon. His albums Impossible Things and Sun Swells fuse Celtic folk\, jazz\, rock and African rhythms into fresh cohesion. His newest project\, Norman&Corrie\, reimagines ancestral Shetlandic melodies with drones\, field recordings\, earthy electronics and improvisation at festivals across the UK and Europe.\n\nCelebrating 10 years since the release of Impossible Things\, Corrie Dick reunites the ensemble who brought to life the cult album that inspired a new wave of folk-influenced jazz and championed numerous rising jazz superstars.\n\n“A bold fusion of Celtic folk music\, african percussion subtlety\, and muscular postbop” (The Guardian)\n\n“Dick presents music that’s by turns joyful\, celebratory\, meditative\, fragile\, child-like\, bold\, processional\, and freewheeling” (The Herald)\n\n“Fluent\, supportive on drums\, also produced the compositional highlight of the evening\, the emotional corner-stone of the set. I can’t wait to hear it again” (London Jazz News)\n\nImpossible Things by Corrie Dick
URL:https://www.vortexjazz.co.uk/event/corrie-dick-impossible-things/
LOCATION:11 Gillett Square\, London\, N16 8AZ
GEO:51.5487082;-0.0764992
X-APPLE-STRUCTURED-LOCATION;VALUE=URI;X-ADDRESS=11 Gillett Square London N16 8AZ;X-APPLE-RADIUS=500;X-TITLE=11 Gillett Square:geo:-0.0764992,51.5487082
ATTACH;FMTTYPE=image/jpeg:https://www.vortexjazz.co.uk/wp-content/uploads/2025/11/Corrie-Dick-Impossible-Things.jpeg
END:VEVENT
END:VCALENDAR