BEGIN:VCALENDAR
VERSION:2.0
PRODID:-//Vortex Jazz Club - ECPv4.1.3//NONSGML v1.0//EN
CALSCALE:GREGORIAN
METHOD:PUBLISH
X-WR-CALNAME:Vortex Jazz Club
X-ORIGINAL-URL:https://www.vortexjazz.co.uk
X-WR-CALDESC:Events for Vortex Jazz Club
BEGIN:VEVENT
DTSTART;TZID=UTC+0:20260125T153000
DTEND;TZID=UTC+0:20260125T170000
DTSTAMP:20260420T075651
CREATED:20260106T162405
LAST-MODIFIED:20260106T162405
UID:26766-1769355000-1769360400@www.vortexjazz.co.uk
SUMMARY:Preview Screening: "Nathaniel Dye: Against The Odds"
DESCRIPTION:Invitation only preview screening of "Nathaniel Dye: Against The Odds"  - a short documentary by Cath Longbottom.\n\n\n\n\n\n\n\nFor further information please contact \ninfo@flying-duck.co.uk
URL:https://www.vortexjazz.co.uk/event/preview-screening-nathaniel-dye-against-the-odds/
LOCATION:11 Gillett Square\, London\, N16 8AZ
GEO:51.5487082;-0.0764992
X-APPLE-STRUCTURED-LOCATION;VALUE=URI;X-ADDRESS=11 Gillett Square London N16 8AZ;X-APPLE-RADIUS=500;X-TITLE=11 Gillett Square:geo:-0.0764992,51.5487082
ATTACH;FMTTYPE=image/jpeg:https://www.vortexjazz.co.uk/wp-content/uploads/2026/01/51b12d3a-57b6-48a7-b670-03f279fe2589-1.jpg
END:VEVENT
BEGIN:VEVENT
DTSTART;TZID=UTC+0:20260125T194500
DTEND;TZID=UTC+0:20260125T223000
DTSTAMP:20260420T075651
CREATED:20260102T170537
LAST-MODIFIED:20260102T170537
UID:26744-1769370300-1769380200@www.vortexjazz.co.uk
SUMMARY:Vortex Jam With Rick Simpson
DESCRIPTION:Doors 7:45 PM\, Music 8:15 PM\nHouse Band\nTBC\nAbout\nA weekly session on Sunday evenings\, hosted by four of London’s finest: guitarist Nick Costley-White\, Trumpeter Sean Gibbs\, pianist Rick Simpson and tenor saxophonists and Riley Stone-Lonergan\, each one hosting one session on rotation.\n\nIf you’re an instrumentalist - we can’t wait to welcome you back to the club - you can attend for free if you’re planning on playing with the house band. No need to book in advance!\n\nOur dear Vortex members are also welcome to these sessions free of charge.
URL:https://www.vortexjazz.co.uk/event/vortex-jam-with-rick-simpson/
LOCATION:11 Gillett Square\, London\, N16 8AZ
GEO:51.5487082;-0.0764992
X-APPLE-STRUCTURED-LOCATION;VALUE=URI;X-ADDRESS=11 Gillett Square London N16 8AZ;X-APPLE-RADIUS=500;X-TITLE=11 Gillett Square:geo:-0.0764992,51.5487082
ATTACH;FMTTYPE=image/jpeg:https://www.vortexjazz.co.uk/wp-content/uploads/2025/08/IMG_9293.jpeg
END:VEVENT
END:VCALENDAR