BEGIN:VCALENDAR
VERSION:2.0
PRODID:-//Vortex Jazz Club - ECPv4.1.3//NONSGML v1.0//EN
CALSCALE:GREGORIAN
METHOD:PUBLISH
X-WR-CALNAME:Vortex Jazz Club
X-ORIGINAL-URL:https://www.vortexjazz.co.uk
X-WR-CALDESC:Events for Vortex Jazz Club
BEGIN:VEVENT
DTSTART;TZID=UTC+0:20260126T194500
DTEND;TZID=UTC+0:20260126T223000
DTSTAMP:20260420T061659
CREATED:20251118T011016
LAST-MODIFIED:20251118T011016
UID:26616-1769456700-1769466600@www.vortexjazz.co.uk
SUMMARY:Jeff Williams Quartet featuring Charlie Rees: An early salute to John Coltrane at 100
DESCRIPTION:Doors 7:45 PM\, Music 8:30 PM - 2 set(s) of music\n \nLine-up:\nJeff Williams - Drums\nCharlie Rees - Tenor saxophone\nNiklas Lukassen - Double bass\nRegina Litvinova - Piano\n\n \nAbout\nAcclaimed American drummer Jeff Williams\, a London resident for two decades until recently\, returns to the Vortex with his first project as a leader in the UK since moving abroad. He will be joined by a newly formed quartet featuring his former student\, emerging saxophonist Charlie Rees\, plus award-winning German bassist Niklas Lukassen and renowned Russian pianist Regina Litvinova. Performing together as a quartet for the first time\, they will play the music of John Coltrane – an early salute to the legendary saxophonist’s centenary (23 September 2026 would have been his 100th birthday).
URL:https://www.vortexjazz.co.uk/event/jeff-williams-quartet-featuring-charlie-rees-an-early-salute-to-john-coltrane-at-100/
LOCATION:11 Gillett Square\, London\, N16 8AZ
GEO:51.5487082;-0.0764992
X-APPLE-STRUCTURED-LOCATION;VALUE=URI;X-ADDRESS=11 Gillett Square London N16 8AZ;X-APPLE-RADIUS=500;X-TITLE=11 Gillett Square:geo:-0.0764992,51.5487082
ATTACH;FMTTYPE=image/jpeg:https://www.vortexjazz.co.uk/wp-content/uploads/2025/11/Jeff-Williams-Quartet-featuring-Charlie-Rees-An-early-salute-to-John-Coltrane-at-100.jpeg
END:VEVENT
END:VCALENDAR