BEGIN:VCALENDAR
VERSION:2.0
PRODID:-//Vortex Jazz Club - ECPv4.1.3//NONSGML v1.0//EN
CALSCALE:GREGORIAN
METHOD:PUBLISH
X-WR-CALNAME:Vortex Jazz Club
X-ORIGINAL-URL:https://www.vortexjazz.co.uk
X-WR-CALDESC:Events for Vortex Jazz Club
BEGIN:VEVENT
DTSTART;TZID=UTC+0:20260302T201500
DTEND;TZID=UTC+0:20260302T230000
DTSTAMP:20260420T080525
CREATED:20260129T093718
LAST-MODIFIED:20260129T201447
UID:26918-1772482500-1772492400@www.vortexjazz.co.uk
SUMMARY:Noah Stoneman Trio
DESCRIPTION:Doors 8:15 PM\, Music 9:00 PM - 2 set(s) of music\n \nLine-up:\nNoah Stoneman - Piano\nJames Maddren - Drums\nFreddie Jensen - Double bass\n\n \nAbout:\nLondon-born NYC-based pianist Noah Stoneman launches his new trio album ‘Dance at Zero’ with his long time collaborators. Rare chance to catch this band and this exciting set of original music.\n\nDance at Zero by Noah Stoneman
URL:https://www.vortexjazz.co.uk/event/noah-stoneman-trio-6/
LOCATION:11 Gillett Square\, London\, N16 8AZ
GEO:51.5487082;-0.0764992
X-APPLE-STRUCTURED-LOCATION;VALUE=URI;X-ADDRESS=11 Gillett Square London N16 8AZ;X-APPLE-RADIUS=500;X-TITLE=11 Gillett Square:geo:-0.0764992,51.5487082
ATTACH;FMTTYPE=image/jpeg:https://www.vortexjazz.co.uk/wp-content/uploads/2026/01/noah-stoneman.jpeg
END:VEVENT
END:VCALENDAR