BEGIN:VCALENDAR
VERSION:2.0
PRODID:-//Vortex Jazz Club - ECPv4.1.3//NONSGML v1.0//EN
CALSCALE:GREGORIAN
METHOD:PUBLISH
X-WR-CALNAME:Vortex Jazz Club
X-ORIGINAL-URL:https://www.vortexjazz.co.uk
X-WR-CALDESC:Events for Vortex Jazz Club
BEGIN:VEVENT
DTSTART;TZID=UTC+0:20260306T194500
DTEND;TZID=UTC+0:20260306T223000
DTSTAMP:20260420T080210
CREATED:20260119T174742
LAST-MODIFIED:20260119T174742
UID:26847-1772826300-1772836200@www.vortexjazz.co.uk
SUMMARY:‘Scofield\, Metheny & Martino’- Brandon Allen/Tom Ollendorff Quartet
DESCRIPTION:Doors 7:45 PM\, Music 8:30 PM - 2 sets of music\n \nLine-up:\nBrandon Allen - Tenor saxophone\n\nTom Ollendorff - Guitar\n\nConor Chaplin - Double bass\n\nDave Ingamells - Drum kit\n\n \nAbout:\nTenor saxophonist Brandon Allen and guitarist Tom Ollendorff join forces in a new project celebrating the music of John Scofield\, Pat Metheny and Pat Martino. Highlighting the natural dialogue between guitar and saxophone\, the group brings a fresh\, contemporary energy to iconic compositions while honoring their melodic and harmonic roots.\n\nAllen’s bold\, expressive sound and Ollendorff’s lyrical sophistication creates an intimate\, conversational interplay at the core of this dynamic ensemble.\n\n \n\n[embed]https://youtu.be/mCDjZ2N9nYk?si=1akuELhahRkfpwsU[/embed]
URL:https://www.vortexjazz.co.uk/event/scofield-metheny-martino-brandon-allentom-ollendorff-quartet/
LOCATION:11 Gillett Square\, London\, N16 8AZ
GEO:51.5487082;-0.0764992
X-APPLE-STRUCTURED-LOCATION;VALUE=URI;X-ADDRESS=11 Gillett Square London N16 8AZ;X-APPLE-RADIUS=500;X-TITLE=11 Gillett Square:geo:-0.0764992,51.5487082
ATTACH;FMTTYPE=image/jpeg:https://www.vortexjazz.co.uk/wp-content/uploads/2026/01/‘Scofield-Metheny-Martino’-Brandon-AllenTom-Ollendorff-Quartet.jpeg
END:VEVENT
END:VCALENDAR