BEGIN:VCALENDAR
VERSION:2.0
PRODID:-//Vortex Jazz Club - ECPv4.1.3//NONSGML v1.0//EN
CALSCALE:GREGORIAN
METHOD:PUBLISH
X-WR-CALNAME:Vortex Jazz Club
X-ORIGINAL-URL:https://www.vortexjazz.co.uk
X-WR-CALDESC:Events for Vortex Jazz Club
BEGIN:VEVENT
DTSTART;TZID=UTC+0:20260318T194500
DTEND;TZID=UTC+0:20260318T223000
DTSTAMP:20260421T063608
CREATED:20260115T210858
LAST-MODIFIED:20260115T210858
UID:26822-1773863100-1773873000@www.vortexjazz.co.uk
SUMMARY:The Aidan Pope Octet
DESCRIPTION:Doors 7:45 PM\, Music 8:30 PM - 2 set(s) of music\n \nLine-up:\nAidan Pope - Guitar\nLewis Sallows - Alto saxophone\nHugh Pascall - Trumpet\nTom Smith - Tenor Saxophone\nDavid Sear - Trombone\nJohn turville - Piano\nMatthew Holmes - Drum kit\nJames Owston - Double bass\n\n \nAbout:\nGuitarist Aidan Pope\, winner of the 2025 Roma International Jazz Contest\, brings his octet to the Vortex to perform his suite 'In Between Lands'. Aidan's playing has stood out to critics as "fluid and musical\, a modern approach to the jazz guitar\, never derivative and a personal\, bright\, articulated\, constantly evolving sound”. The band features some of the UK's best jazz musicians and aims to combine the London and Birmingham scenes.\n\n \n\n[embed]https://open.spotify.com/album/34leQ5kBupmeuk20PVIWjr?si=oGhNDdTdR6qpmtakYy2ClA[/embed]
URL:https://www.vortexjazz.co.uk/event/the-aidan-pope-octet/
LOCATION:11 Gillett Square\, London\, N16 8AZ
GEO:51.5487082;-0.0764992
X-APPLE-STRUCTURED-LOCATION;VALUE=URI;X-ADDRESS=11 Gillett Square London N16 8AZ;X-APPLE-RADIUS=500;X-TITLE=11 Gillett Square:geo:-0.0764992,51.5487082
ATTACH;FMTTYPE=image/jpeg:https://www.vortexjazz.co.uk/wp-content/uploads/2026/01/Aidan-Pope.jpeg
END:VEVENT
END:VCALENDAR