BEGIN:VCALENDAR
VERSION:2.0
PRODID:-//Vortex Jazz Club - ECPv4.1.3//NONSGML v1.0//EN
CALSCALE:GREGORIAN
METHOD:PUBLISH
X-WR-CALNAME:Vortex Jazz Club
X-ORIGINAL-URL:https://www.vortexjazz.co.uk
X-WR-CALDESC:Events for Vortex Jazz Club
BEGIN:VEVENT
DTSTART;TZID=UTC+0:20260319T184500
DTEND;TZID=UTC+0:20260319T203000
DTSTAMP:20260421T063956
CREATED:20260117T100648
LAST-MODIFIED:20260117T100912
UID:26841-1773945900-1773952200@www.vortexjazz.co.uk
SUMMARY:Stef Joosten trio ft. Ivo Neame
DESCRIPTION:Doors 6:45 PM\, Music 7:30 PM - 1 set of music\n \nLine-up:\nStef Joosten - Bass guitar\n\nIvo Neame - Piano\n\nFinn Genockey - Drum kit\n\n \nAbout:\nStef Joosten is deeply captivated by the concept of freedom in music\, which led him to explore the realms of improvised music. The spontaneity and creativity inherent in the genre keep his musical journey fresh\, dynamic\, and authentic.\n\nHis pursuit of musical exploration took him to the Fontys Conservatorium in Tilburg and the Conservatorium van Amsterdam.\n\nAfter years of working as a sideman and co-bandleader\, Stef Joosten released his debut album More Life in October 2024. This album features duos with Anna Serierse (vocals)\, Koen Smits (trumpet)\, Prashant Samlal (guitar)\, and Jeroen van Vliet (piano). In these duo settings\, Stef explores the intimate and introspective nature of the interactions\, allowing his bass to take on less traditional roles.\n\nIn January 2025\, Stef launched a new European band following a residency at Paradox\, featuring Ivo Neame (GB)\, Gard Nilssen (NO)\, and Jesse Schilderink (NL). A live album of this band is scheduled for release in 2026.\n\nIn recent years\, Stef has led TISOI\, collaborating with British pianist Ivo Neame\, Morris Kliphuis\, and Kika Sprangers. As a composer\, he has contributed to the collective works of Ezthetic and Nyala. Ezthetic released their first album in March 2022 and Nyala’s A Way of Lifealready was released May 2024.\n\nSince January 2020\, Stef has been sharing his expertise as a faculty member at the Fontys Conservatorium Tilburg\, part of the Fontys School of Fine and Performing Arts. As of July 2023\, Stef is part of Music Hub Brabant\, a program initiated by Talent Hub Brabant aiming to systematically integrate talent development in music within the cultural landscape of Brabant.\n\nIvo Neame is an internationally renowned pianist\, composer\, and bandleader who has established himself as one of the most innovative and dynamic figures in the contemporary jazz scene. He has worked with ensembles as diverse as the Frankfurt Radio Big Band and the London Sinfonietta. He is best known for his creative contributions to the award-winning bands Phronesis and the Marius Neset Quintet; as a sideman he has collaborated with numerous other artists such as Hermeto Pascoal\, Kenny Wheeler and Marc Guiliana. Ivo’s music is characterised by a stunning mix of virtuosity\, sophistication\, and playfulness - his performances are known for their dynamic energy and emotional depth.\n\nHis tenth album under his own name “Zettalogue” was released on Ubuntu Music in October 2024. In recent years he has also received commissions to compose and arrange music for ensembles such as the Cologne Contemporary Jazz Orchestra (Germany) and the Sointi Jazz Orchestra (Finland).\n\n"Some of the most engaging jazz you’ll hear this year" LONDON JAZZ SCENE\n\n“Ivo Neame is one of the very best jazz pianists on the UK scene” BANDCAMP DAILY\n\n“That Neame is one of the most interesting jazz pianists of his generation may be clear. The years of almost constantly being on the road with bands has given him a prominent role in the\nfront line of British jazz” WRITTEN IN JAZZ\n\n[embed]https://www.youtube.com/watch?v=vhwdketcons[/embed]\n\n[embed]https://www.youtube.com/watch?v=KswWXePCtjA[/embed]
URL:https://www.vortexjazz.co.uk/event/stef-joosten-trio-ft-ivo-neame/
LOCATION:11 Gillett Square\, London\, N16 8AZ
GEO:51.5487082;-0.0764992
X-APPLE-STRUCTURED-LOCATION;VALUE=URI;X-ADDRESS=11 Gillett Square London N16 8AZ;X-APPLE-RADIUS=500;X-TITLE=11 Gillett Square:geo:-0.0764992,51.5487082
ATTACH;FMTTYPE=image/jpeg:https://www.vortexjazz.co.uk/wp-content/uploads/2026/01/Stef-Joosten-trio-ft.-Ivo-Neame.jpeg
END:VEVENT
BEGIN:VEVENT
DTSTART;TZID=UTC+0:20260319T194500
DTEND;TZID=UTC+0:20260319T223000
DTSTAMP:20260421T063956
CREATED:20260116T193945
LAST-MODIFIED:20260116T193945
UID:26834-1773949500-1773959400@www.vortexjazz.co.uk
SUMMARY:Raw Fish / Moonfish (Double Bill)
DESCRIPTION:Doors 7:45 PM\, Music 8:30 PM - 2 set(s) of music\n \nLine-up:\nTeis Semey - Guitar\nGiovanni Iacovella - Drums\n\nAnd\n\nMaria Chiara Argirò\nRiccardo Chiaberta\n\n \nAbout:\nMOONFISH\n\nThe collaborative project of critically acclaimed Maria Chiara Argirò and Riccardo Chiaberta\, merges electronic beats and alternative rock with jazz improvisation. Their setup blends piano and synths with drums\, bass synth\, and electronics.\n\nBoth musicians are prominent figures in London’s jazz and electronic music scenes\, having worked with artists such as Rosie Turton\, Liran Donin\, Jamie Leeming\, Dugong\, Bruno Heinen\, and These New Puritans.\n\nDrawing on influences such as Aaron Parks\, Kneebody\, and Bonobo\, their music stands out for its balance between earthy grooves and dreamy\, ethereal melodies. They will present music from their recent EP Leaving\, alongside new songs\, exploring intimate dialogues that may build to intense explosions.\n\nRaw Fish\n\nIn the Danish/Italian Raw Fish\, avant garde electronic music blends with jazz and indie music\, in a rough-edged sonic blast. Teis Semey and Giovanni Iacovella both make use of their acoustic instruments upgraded with electronics and samplers. With access to modern electronic sounds\, they blast through the confines of genre\, and reveal themselves as creative innovators of music. It is intuitive\, it’s fun\, and it’s unpolished\, in just the right way.\n\nDebut album “Crudo” (Loumi Records) released on April 26\, 2024 to critical success\, and Raw Fish continues to hold the title of one of the most exciting new bands on the European scene at the moment.\n\n[embed]https://www.youtube.com/watch?v=5il1_HFKMxY[/embed]\n\nhttps://www.youtube.com/watch?v=hhm5sVlI1dQ&list=RDhhm5sVlI1dQ&start_radio=1
URL:https://www.vortexjazz.co.uk/event/raw-fish-moonfish-double-bill/
LOCATION:11 Gillett Square\, London\, N16 8AZ
GEO:51.5487082;-0.0764992
X-APPLE-STRUCTURED-LOCATION;VALUE=URI;X-ADDRESS=11 Gillett Square London N16 8AZ;X-APPLE-RADIUS=500;X-TITLE=11 Gillett Square:geo:-0.0764992,51.5487082
ATTACH;FMTTYPE=image/jpeg:https://www.vortexjazz.co.uk/wp-content/uploads/2026/01/Raw-Fish-Moonfish-Double-Bill.jpeg
END:VEVENT
END:VCALENDAR