BEGIN:VCALENDAR
VERSION:2.0
PRODID:-//Vortex Jazz Club - ECPv4.1.3//NONSGML v1.0//EN
CALSCALE:GREGORIAN
METHOD:PUBLISH
X-WR-CALNAME:Vortex Jazz Club
X-ORIGINAL-URL:https://www.vortexjazz.co.uk
X-WR-CALDESC:Events for Vortex Jazz Club
BEGIN:VEVENT
DTSTART;TZID=UTC+0:20260320T183000
DTEND;TZID=UTC+0:20260320T223000
DTSTAMP:20260421T063502
CREATED:20260113T124744
LAST-MODIFIED:20260115T131159
UID:26795-1774031400-1774045800@www.vortexjazz.co.uk
SUMMARY:Kris Davis Massive Threads Trio (2 Shows)
DESCRIPTION:Timings:\n1st Show\nDoors 6:30 PM\, Music 7:00 PM - 1 set of music\n2nd Show\nDoors 8:30 PM\, Music 9:00 PM - 1 set of music\n \n\n\n\nLine-up:\nKris Davis - Piano\nDoYeon Kim - gayageum\nTom Rainey - Drums\nAbout:\nThis new trio brings together Grammy-winning pianist Kris Davis\, gayageum virtuoso DoYeon Kim\, and drummer Tom Rainey\, drawing on personal languages shaped by jazz\, contemporary classical music\, and Korean musical traditions. The trio creates a fluid\, textural sound world where composed material and free improvisation coexist. The music unfolds through shifting textures\, rhythmic elasticity\, and collaboration that transcends cultural and stylistic boundaries. This tour is supported by Next Jazz Legacy\, a grant dedicated to mentoring women artists.\n\n \n\n[embed]https://youtu.be/VoluNMrHXGI[/embed]
URL:https://www.vortexjazz.co.uk/event/kris-davis-massive-threads-trio-2-shows/
LOCATION:11 Gillett Square\, London\, N16 8AZ
GEO:51.5487082;-0.0764992
X-APPLE-STRUCTURED-LOCATION;VALUE=URI;X-ADDRESS=11 Gillett Square London N16 8AZ;X-APPLE-RADIUS=500;X-TITLE=11 Gillett Square:geo:-0.0764992,51.5487082
ATTACH;FMTTYPE=image/jpeg:https://www.vortexjazz.co.uk/wp-content/uploads/2026/01/Kris-Davis-Massive-Threads-Trio-2-Shows.jpeg
END:VEVENT
END:VCALENDAR