BEGIN:VCALENDAR
VERSION:2.0
PRODID:-//Vortex Jazz Club - ECPv4.1.3//NONSGML v1.0//EN
CALSCALE:GREGORIAN
METHOD:PUBLISH
X-WR-CALNAME:Vortex Jazz Club
X-ORIGINAL-URL:https://www.vortexjazz.co.uk
X-WR-CALDESC:Events for Vortex Jazz Club
BEGIN:VEVENT
DTSTART;TZID=UTC+0:20260321T104500
DTEND;TZID=UTC+0:20260321T130000
DTSTAMP:20260420T043519
CREATED:20260131T165838
LAST-MODIFIED:20260223T160158
UID:26921-1774089900-1774098000@www.vortexjazz.co.uk
SUMMARY:Eavesdropping Festival (Session One)
DESCRIPTION:Timings:\nSession One:\ndoors open 10.45\, event starts 11:00\, event ends 1300.\n**VERY IMPORTANT NOTE TO CUSTOMERS** Click to "Book Online" and select the correct date and time in the next window - the link will give you options for either 21st or 22nd March\n\n\n\nAbout:\neavesdropping festival returns for a two-day forum on 'Cultivating Courage: risk-takers and trouble-makers'. Alongside provocations selected through an open call\, in this session we'll hear from guest speaker Erin Johnson-Williams on a social justice approach to listening. eavesdropping festival runs 19-22 March with events at Vortex and Cafe OTO. The full programme\, including a downloadable guide to the forum\, can be found here: https://www.eavesdropping.london/activity/2026/\n\n 
URL:https://www.vortexjazz.co.uk/event/eavesdropping-festival-day-1/
LOCATION:11 Gillett Square\, London\, N16 8AZ
GEO:51.5487082;-0.0764992
X-APPLE-STRUCTURED-LOCATION;VALUE=URI;X-ADDRESS=11 Gillett Square London N16 8AZ;X-APPLE-RADIUS=500;X-TITLE=11 Gillett Square:geo:-0.0764992,51.5487082
ATTACH;FMTTYPE=image/jpeg:https://www.vortexjazz.co.uk/wp-content/uploads/2026/01/eavesdropping-event-thumbnail-2026.jpg
END:VEVENT
BEGIN:VEVENT
DTSTART;TZID=UTC+0:20260321T134500
DTEND;TZID=UTC+0:20260321T170000
DTSTAMP:20260420T043519
CREATED:20260202T173509
LAST-MODIFIED:20260223T160208
UID:26925-1774100700-1774112400@www.vortexjazz.co.uk
SUMMARY:Eavesdropping Festival (Session Two)
DESCRIPTION:Timings:\nSession Two:\ndoors open 13.45\, event starts 14:00\, event ends 1700.\n**VERY IMPORTANT NOTE TO CUSTOMERS** Click to "Book Online" and select the correct date and time in the next window - the link will give you options for either 21st or 22nd March\n\n\n\nAbout:\neavesdropping festival returns for a two-day forum on 'Cultivating Courage: risk-takers and trouble-makers'. Alongside provocations selected through an open call\, in this session we'll have a roundtable discussion around curatorial courage. eavesdropping festival runs 19-22 March with events at Vortex and Cafe OTO. The full programme\, including a downloadable guide to the forum\, can be found here: https://www.eavesdropping.london/activity/2026/\n\n 
URL:https://www.vortexjazz.co.uk/event/eavesdropping-festival-session-two/
LOCATION:11 Gillett Square\, London\, N16 8AZ
GEO:51.5487082;-0.0764992
X-APPLE-STRUCTURED-LOCATION;VALUE=URI;X-ADDRESS=11 Gillett Square London N16 8AZ;X-APPLE-RADIUS=500;X-TITLE=11 Gillett Square:geo:-0.0764992,51.5487082
ATTACH;FMTTYPE=image/jpeg:https://www.vortexjazz.co.uk/wp-content/uploads/2026/01/eavesdropping-event-thumbnail-2026.jpg
END:VEVENT
BEGIN:VEVENT
DTSTART;TZID=UTC+0:20260321T194500
DTEND;TZID=UTC+0:20260321T223000
DTSTAMP:20260420T043519
CREATED:20260211T092253
LAST-MODIFIED:20260309T160816
UID:26942-1774122300-1774132200@www.vortexjazz.co.uk
SUMMARY:Gary Crosby Quintet: Miles in the Sky
DESCRIPTION:Doors 7:45 PM\, Music 8:30 PM - 2 set(s) of music\n \nLine-up:\nGary Crosby - Bass\nDenys Baptiste - Saxophone\nKlara Devlin - Trumpet\nAndrew McCormack - Piano\nWinston Clifford - Drum kit\nAbout:\nBassist\, band leader and Co-Founder of Tomorrow’s Warriors\, Gary Crosby OBE leads his quintet in a celebration of the life\, music\, and impact of one of the most iconic jazz innovators of all time\, Miles Davis.\n\nFocussing on the era defined by the formidable Second Great Quintet\, featuring Ron Carter\, Herbie Hancock\, Wayne Shorter\, and Tony Williams\, Gary will be delving deep into the ground-breaking recordings and musical approach that were the hallmarks of the Quintet between 1964 and 1968.\n\nGary will be joined by Tomorrow’s Warriors Emerging Artist and BBC Young Jazz Musician of the Year finalist Klara Devlin (trumpet)\, Denys Baptiste (sax)\, Andrew McCormack (piano)\, and Winston Clifford (drums).\n\nDiscussing the impact that Miles Davis made\, Gary Crosby explains “Musically Miles didn’t break the rules in jazz\, he CHANGED the rules! He stripped everything back but kept the musicality central. His music had this incredible swing\, but it didn’t just swing hard\, it had this new articulate vibe that changed how musicians played together.\n\nRon Carter summed it up best\, “That band was a laboratory and Miles was the head chemist” - what they concocted was a new musical language!”
URL:https://www.vortexjazz.co.uk/event/gary-crosby-quintet-miles-in-the-sky/
LOCATION:11 Gillett Square\, London\, N16 8AZ
GEO:51.5487082;-0.0764992
X-APPLE-STRUCTURED-LOCATION;VALUE=URI;X-ADDRESS=11 Gillett Square London N16 8AZ;X-APPLE-RADIUS=500;X-TITLE=11 Gillett Square:geo:-0.0764992,51.5487082
ATTACH;FMTTYPE=image/jpeg:https://www.vortexjazz.co.uk/wp-content/uploads/2026/02/Gary.jpeg
END:VEVENT
END:VCALENDAR