BEGIN:VCALENDAR
VERSION:2.0
PRODID:-//Vortex Jazz Club - ECPv4.1.3//NONSGML v1.0//EN
CALSCALE:GREGORIAN
METHOD:PUBLISH
X-WR-CALNAME:Vortex Jazz Club
X-ORIGINAL-URL:https://www.vortexjazz.co.uk
X-WR-CALDESC:Events for Vortex Jazz Club
BEGIN:VEVENT
DTSTART;TZID=UTC+0:20260328T133000
DTEND;TZID=UTC+0:20260328T153000
DTSTAMP:20260421T063855
CREATED:20260316T180952
LAST-MODIFIED:20260317T120013
UID:27088-1774704600-1774711800@www.vortexjazz.co.uk
SUMMARY:Douglas Dare Live
DESCRIPTION:Doors: 1.30pm Music 1.50pm\n \nLine-Up\nDouglas Dare - Voice & Piano\nMakiko Harris - Violin\nSophie Hooper - Flute\nRobbie Mars - Clarinet\nZara Hudson-Kozdòj - Cello\nEll Kendall - Piano\n\nABOUT\nA celebration of the piano with Erased Tapes artist Douglas Dare. Featuring guests from The London Ambient Orchestra.\n\nDouglas Dare crafts intimate\, cinematic music that blurs the lines between art-pop\, modern classical\, and electronic minimalism. With his arresting voice and evocative storytelling\, the London based artist has drawn comparisons to James Blake and Anohni\, yet his sound is uniquely his own - melancholic\, raw\, and deeply affecting.\n\nSince his debut album Whelm (2014)\, released on the esteemed Erased Tapes label\, Dare has captivated audiences worldwide\, performing at venues from the Barbican to Berlin’s Funkhaus. His follow-up albums\, Aforger (2016) and Milkteeth (2020)\, further showcased his ability to weave personal narratives into haunting sonic landscapes\, earning widespread critical acclaim from The Guardian\, Pitchfork\, and BBC Radio 6 Music.
URL:https://www.vortexjazz.co.uk/event/douglas-dare-live/
LOCATION:11 Gillett Square\, London\, N16 8AZ
GEO:51.5487082;-0.0764992
X-APPLE-STRUCTURED-LOCATION;VALUE=URI;X-ADDRESS=11 Gillett Square London N16 8AZ;X-APPLE-RADIUS=500;X-TITLE=11 Gillett Square:geo:-0.0764992,51.5487082
ATTACH;FMTTYPE=image/jpeg:https://www.vortexjazz.co.uk/wp-content/uploads/2026/03/DOUGLAS_1.jpg
END:VEVENT
BEGIN:VEVENT
DTSTART;TZID=UTC+0:20260328T183000
DTEND;TZID=UTC+0:20260328T223000
DTSTAMP:20260421T063855
CREATED:20260128T105934
LAST-MODIFIED:20260128T112439
UID:26908-1774722600-1774737000@www.vortexjazz.co.uk
SUMMARY:Jean Toussaint (2 Shows)
DESCRIPTION:Timings:\n1st Show\n\nThe first show will feature special guest vocalist Harley Loudon and also the launch of Ms Loudon’s new EP which Jean Toussaint is a featured guest.\n\nDoors 6:30 PM\, Music 7:00 PM – 1 set of music\n2nd Show\nThe second show will be a concert of JT5 “the Jean Toussaint Quintet”.\nDoors 8:30 PM\, Music 9:00 PM – 1 set of music\n\n\n\nLine-up:\nJean Toussaint sax/leader - Tenor saxophone\nEmile Hinton - Piano\nLorenzo Morabito - Double bass\nBen Brown - Drum kit\nJoti - Trumpet\nHarley Loudon - voice *(1st Show only)*\nAbout:\nSaxophonist Jean Toussaint presents a special concert with different line-ups across one night.\n\nSince Jean Toussaint Left Art Blakey’s Jazz Messengers\, he hasn’t looked back. Nor has he spent a career trying to repeat the past. The experiences gained in that world-class hothouse have enabled him to push forward and embrace challenging and often high-profile musical collaborations in many different jazz styles. Today he works out of London\, England as a composer\, tenor and soprano saxophonist\, band leader and educator.\n\nBorn on the Dutch Antilles Island of Aruba\, Toussaint grew up in St Thomas\, US Virgin Islands and studied at Berklee College of Music in Boston. Toussaint came to London in 1987 and still uses the capital as his base. Since then he has released 8 CDs as a leader. Collaborations with musicians based in the UK have included Julian Joseph\, Jason Rebello\, Cleveland Watkiss\, Tony Remy\, Orphy Robinson\, Bheki Mseleku\, Troy Miller and many others. Toussaint is also an experienced jazz educator\, teaching at The Guildhall School of Music and Drama\, Trinity College of Music and Birmingham Conservatoire\, as well as on various workshops\, most recently the London Philarmonic Orchestra.\n\nPhoto credit: Carl Hyde
URL:https://www.vortexjazz.co.uk/event/jean-toussaint-2-shows/
LOCATION:11 Gillett Square\, London\, N16 8AZ
GEO:51.5487082;-0.0764992
X-APPLE-STRUCTURED-LOCATION;VALUE=URI;X-ADDRESS=11 Gillett Square London N16 8AZ;X-APPLE-RADIUS=500;X-TITLE=11 Gillett Square:geo:-0.0764992,51.5487082
ATTACH;FMTTYPE=image/jpeg:https://www.vortexjazz.co.uk/wp-content/uploads/2025/10/Jean-4-by-3.jpeg
END:VEVENT
END:VCALENDAR