BEGIN:VCALENDAR
VERSION:2.0
PRODID:-//Vortex Jazz Club - ECPv4.1.3//NONSGML v1.0//EN
CALSCALE:GREGORIAN
METHOD:PUBLISH
X-WR-CALNAME:Vortex Jazz Club
X-ORIGINAL-URL:https://www.vortexjazz.co.uk
X-WR-CALDESC:Events for Vortex Jazz Club
BEGIN:VEVENT
DTSTART;TZID=UTC+0:20260329T143000
DTEND;TZID=UTC+0:20260329T193000
DTSTAMP:20260421T063256
CREATED:20260303T174326
LAST-MODIFIED:20260303T174603
UID:27055-1774794600-1774812600@www.vortexjazz.co.uk
SUMMARY:Vortex Collective presents: Future Standards & Downstairs Jam
DESCRIPTION:Doors 2:30 PM\, Music 3:00 PM\nAbout\n"Standards are engaging and accessible for musicians and listeners alike\, but nearly all of jazz’s standard repertoire is from a 50 year period ca. 1920 – 1970.\nAnother half century has since passed\, where new compositions have not been added to this shared language.\n\nJoin a collective of musicians who met through the Vortex jazz club in imagining future standards.\n\n3 – 7.30pm: accessible open jam session open to all to join in from 3pm\, for standards from the real book and "future standards". House band will play a number of future standards throughout the afternoon.\n\nFor more details on the future standards project\, including sheet music\, workshops\, and to suggest additions to the repertoire\, contact vortex.jazz.collective@gmail.com\n\n[embed]https://open.spotify.com/playlist/72DeFa18IBvWJD8P8pyX8T?si=e5YnxemiRMuh__x-7iaT_w&nd=1&dlsi=e80d6a1d1d3a46e8[/embed]
URL:https://www.vortexjazz.co.uk/event/vortex-collective-presents-future-standards-downstairs-jam-6/
LOCATION:11 Gillett Square\, London\, N16 8AZ
GEO:51.5487082;-0.0764992
X-APPLE-STRUCTURED-LOCATION;VALUE=URI;X-ADDRESS=11 Gillett Square London N16 8AZ;X-APPLE-RADIUS=500;X-TITLE=11 Gillett Square:geo:-0.0764992,51.5487082
ATTACH;FMTTYPE=image/jpeg:https://www.vortexjazz.co.uk/wp-content/uploads/2025/10/fs_2025.jpg
END:VEVENT
BEGIN:VEVENT
DTSTART;TZID=UTC+0:20260329T194500
DTEND;TZID=UTC+0:20260329T223000
DTSTAMP:20260421T063256
CREATED:20260216T174207
LAST-MODIFIED:20260327T092113
UID:26993-1774813500-1774823400@www.vortexjazz.co.uk
SUMMARY:Vortex Jam Session with Sean Gibbs
DESCRIPTION:Doors 7:45 PM\, Music 8:15 PM\nHouse Band\nSean Gibbs - Trumpet\nDave Ferris - Piano\nDaniel Casimir - Bass\nDave Ingamells - Drums\nAbout\nA weekly session on Sunday evenings\, hosted by four of London’s finest: guitarist Nick Costley-White\, Trumpeter Sean Gibbs\, pianist Rick Simpson and tenor saxophonists and Riley Stone-Lonergan\, each one hosting one session on rotation.\n\nIf you’re an instrumentalist – we can’t wait to welcome you back to the club – you can attend for free if you’re planning on playing with the house band. No need to book in advance!\n\nOur dear Vortex members are also welcome to these sessions free of charge.
URL:https://www.vortexjazz.co.uk/event/vortex-jam-session-with-sean-gibbs/
LOCATION:11 Gillett Square\, London\, N16 8AZ
GEO:51.5487082;-0.0764992
X-APPLE-STRUCTURED-LOCATION;VALUE=URI;X-ADDRESS=11 Gillett Square London N16 8AZ;X-APPLE-RADIUS=500;X-TITLE=11 Gillett Square:geo:-0.0764992,51.5487082
ATTACH;FMTTYPE=image/jpeg:https://www.vortexjazz.co.uk/wp-content/uploads/2026/01/sean-31-1500x998.jpg
END:VEVENT
END:VCALENDAR