BEGIN:VCALENDAR
VERSION:2.0
PRODID:-//Vortex Jazz Club - ECPv4.1.3//NONSGML v1.0//EN
CALSCALE:GREGORIAN
METHOD:PUBLISH
X-WR-CALNAME:Vortex Jazz Club
X-ORIGINAL-URL:https://www.vortexjazz.co.uk
X-WR-CALDESC:Events for Vortex Jazz Club
BEGIN:VEVENT
DTSTART;TZID=UTC+0:20260403T184500
DTEND;TZID=UTC+0:20260403T203000
DTSTAMP:20260420T062511
CREATED:20260223T132114
LAST-MODIFIED:20260223T132139
UID:27023-1775241900-1775248200@www.vortexjazz.co.uk
SUMMARY:Downstairs Living Room: Elliot Galvin & Rebecka Edlund
DESCRIPTION:Doors 6:45 PM\, Music 7:30 PM - 1 set(s) of music\n \nLine-up:\nElliot Galvin -  Piano\n\n\n\n\n\n\n\n\nRebecka Edlund - Voice\n\n\n\n\n\n\n\n\nAbout:\nFor the first time\, the bold soundscapes of pioneering improvisers Elliot Galvin & Rebecka Edlund come together in a duo setting.\n\nElliot Galvin is a long-time trailblazer in the UK jazz firmament with five solo albums that have seen him top album of the year lists at the likes of Downbeat and Jazzwise\, as well as being a member of the Mercury nominated Dinosaur\, and collaborating with Shabaka Hutchings\, Emma– Jean Thackray\, Norma Winstone\, Marius Neset and Mark Lockheart. His latest album ‘The Ruin’\, released on Gearbox Records\, was named Gilles Peterson’s jazz album of the year 2025 and editor’s pick in Downbeat Magazine.\n\nSwedish vocalist Rebecka Edlund weaves together the sonorities of experimental jazz and Scandinavian folk music. Since moving from Sweden to London in 2019\, Edlund has established herself as one of the UK’s most compelling emerging artists in vocal improvisation and songwriting. Edlund’s recent ventures include performing with Ruth Goller’s Skylla and recording an album with Norma Winstone\, Jeff Ballard\, Iain Ballamy and Rob Luft. Edlund’s upcoming debut album\, Virgin Forest\, features the extraordinary musical minds of Laura Jurd\, Ruth Goller and Elliot Galvin.\n\n \n\n[embed][/embed]
URL:https://www.vortexjazz.co.uk/event/downstairs-living-room-elliot-galvin-rebecka-edlund/
LOCATION:11 Gillett Square\, London\, N16 8AZ
GEO:51.5487082;-0.0764992
X-APPLE-STRUCTURED-LOCATION;VALUE=URI;X-ADDRESS=11 Gillett Square London N16 8AZ;X-APPLE-RADIUS=500;X-TITLE=11 Gillett Square:geo:-0.0764992,51.5487082
ATTACH;FMTTYPE=image/jpeg:https://www.vortexjazz.co.uk/wp-content/uploads/2026/02/Downstairs-Living-Room-Elliot-Galvin-Rebecka-Edlund.jpeg
END:VEVENT
BEGIN:VEVENT
DTSTART;TZID=UTC+0:20260403T194500
DTEND;TZID=UTC+0:20260403T223000
DTSTAMP:20260420T062511
CREATED:20260302T233810
LAST-MODIFIED:20260302T233810
UID:27049-1775245500-1775255400@www.vortexjazz.co.uk
SUMMARY:Brass Mask
DESCRIPTION:Doors 7:45 PM\, Music 8:30 PM - 2 set(s) of music\n \nLine-up:\nTomas Challenger - Saxophone\nGeorge Crowley - Saxophone\nRory Simmons - Trumpet\nAlex Bonney - Trumpet\nMiguel Gorodi - Trumpet\nCameron Scott - Trombone\, Euphonium\nCaius Williams - Bass Guitar\nNoah Ojumu - Drums\nJon Scott - Drums\n\n \nAbout:\nFor this concert\, Brass Mask convene to celebrate the release of a new LP\, CYGNUS. The intensity and directness\, focus on melody\, bass lines and textures that were hallmarks of Brass Mask’s previous releases (‘Spy Boy’\, (Babel\, 2014) and ‘Live’ (Babel\, 2017)) can still be heard on this latest album. On it\, Brass Mask begins to move differently\, accessing various lines of connectivity and modularity. Ensemble sections swarm into solo sections and different materials\, all with a sense of direction that can be expected from an ensemble that first performed in 2012.\n\n \n\nCygnus by Brass Mask
URL:https://www.vortexjazz.co.uk/event/brass-mask-2/
LOCATION:11 Gillett Square\, London\, N16 8AZ
GEO:51.5487082;-0.0764992
X-APPLE-STRUCTURED-LOCATION;VALUE=URI;X-ADDRESS=11 Gillett Square London N16 8AZ;X-APPLE-RADIUS=500;X-TITLE=11 Gillett Square:geo:-0.0764992,51.5487082
ATTACH;FMTTYPE=image/jpeg:https://www.vortexjazz.co.uk/wp-content/uploads/2026/03/Brass-Mask.jpeg
END:VEVENT
END:VCALENDAR