BEGIN:VCALENDAR
VERSION:2.0
PRODID:-//Vortex Jazz Club - ECPv4.1.3//NONSGML v1.0//EN
CALSCALE:GREGORIAN
METHOD:PUBLISH
X-WR-CALNAME:Vortex Jazz Club
X-ORIGINAL-URL:https://www.vortexjazz.co.uk
X-WR-CALDESC:Events for Vortex Jazz Club
BEGIN:VEVENT
DTSTART;TZID=UTC+0:20260405T153000
DTEND;TZID=UTC+0:20260405T180000
DTSTAMP:20260421T004926
CREATED:20260217T090920
LAST-MODIFIED:20260303T103926
UID:27001-1775403000-1775412000@www.vortexjazz.co.uk
SUMMARY:London Jazz Orchestra Vortex Sessions - "Old Bottles\, New Wine"
DESCRIPTION:Doors 3:30 PM\, Music 4:00 PM - 2 sets of music\nAbout\nA fun way to celebrate Easter Day! Not the famous Gil Evans album\, but our own versions of jazz standards and great tunes in original arrangements by members of the band past and present. Featuring music ranging for from Joe Sample’s soulful One Day I’ll Fly Away and Billy Cobham’s funky Crosswind\, through swinging tunes by Charles Mingus and Wayne Shorter\, to Elgar’s Nimrod - written by Stan Sulzmann\, Pete Hurt\, Miguel Gorodi\, Noel Langley\, director Scott Stroman\, and more.
URL:https://www.vortexjazz.co.uk/event/london-jazz-orchestra-vortex-sessions-old-bottles-new-wine/
LOCATION:11 Gillett Square\, London\, N16 8AZ
GEO:51.5487082;-0.0764992
X-APPLE-STRUCTURED-LOCATION;VALUE=URI;X-ADDRESS=11 Gillett Square London N16 8AZ;X-APPLE-RADIUS=500;X-TITLE=11 Gillett Square:geo:-0.0764992,51.5487082
ATTACH;FMTTYPE=image/jpeg:https://www.vortexjazz.co.uk/wp-content/uploads/2026/02/LJO-NEW.jpeg
END:VEVENT
BEGIN:VEVENT
DTSTART;TZID=UTC+0:20260405T194500
DTEND;TZID=UTC+0:20260405T223000
DTSTAMP:20260421T004926
CREATED:20260315T125341
LAST-MODIFIED:20260331T144546
UID:27079-1775418300-1775428200@www.vortexjazz.co.uk
SUMMARY:Vortex Jam Session with Riley Stone-Lonergan
DESCRIPTION:Doors 7:45 PM\, Music 8:15 PM\nHouse Band\nTBC\nAbout\nA weekly session on Sunday evenings\, hosted by four of London’s finest: guitarist Nick Costley-White\, Trumpeter Sean Gibbs\, pianist Rick Simpson and tenor saxophonists and Riley Stone-Lonergan\, each one hosting one session on rotation.\n\nIf you’re an instrumentalist – we can’t wait to welcome you back to the club – you can attend for free if you’re planning on playing with the house band. No need to book in advance!\n\nOur dear Vortex members are also welcome to these sessions free of charge.
URL:https://www.vortexjazz.co.uk/event/vortex-jam-session-7/
LOCATION:11 Gillett Square\, London\, N16 8AZ
GEO:51.5487082;-0.0764992
X-APPLE-STRUCTURED-LOCATION;VALUE=URI;X-ADDRESS=11 Gillett Square London N16 8AZ;X-APPLE-RADIUS=500;X-TITLE=11 Gillett Square:geo:-0.0764992,51.5487082
ATTACH;FMTTYPE=image/jpeg:https://www.vortexjazz.co.uk/wp-content/uploads/2025/03/Riley.jpeg
END:VEVENT
END:VCALENDAR