BEGIN:VCALENDAR
VERSION:2.0
PRODID:-//Vortex Jazz Club - ECPv4.1.3//NONSGML v1.0//EN
CALSCALE:GREGORIAN
METHOD:PUBLISH
X-WR-CALNAME:Vortex Jazz Club
X-ORIGINAL-URL:https://www.vortexjazz.co.uk
X-WR-CALDESC:Events for Vortex Jazz Club
BEGIN:VEVENT
DTSTART;TZID=UTC+0:20260409T184500
DTEND;TZID=UTC+0:20260409T203000
DTSTAMP:20260420T063149
CREATED:20260212T155326
LAST-MODIFIED:20260212T155503
UID:26985-1775760300-1775766600@www.vortexjazz.co.uk
SUMMARY:Sylvie + Ursula - 'New Eve' Album Launch
DESCRIPTION:Doors 6:45 PM\, Music 7:30 PM - 1 set(s) of music\n \nLine-up:\nSylvie Noble - Voice\nUrsula Harrison - Double bass\n\n \nAbout:\nBass player and winner of the BBC Young Jazz Musician 2024 Ursula Harrison and London-based vocalist and composer Sylvie Noble first met on the vibrant South-Wales jazz scene\, bonding over a shared love of both jazz and folk music. They present their debut duo album New Eve\, which seamlessly weaves between tales of disorder and defiance\, grief and rebirth\, through an intimate acoustic conversation between the voice and double bass. Combining raucous improvisation\, deep grooves\, and humourous interplay\, New Eve provides a stripped down and deeply nostalgic glimpse into the human condition.\n https://www.instagram.com/p/DFToxxqttRr/
URL:https://www.vortexjazz.co.uk/event/sylvie-ursula-new-eve-album-launch/
LOCATION:11 Gillett Square\, London\, N16 8AZ
GEO:51.5487082;-0.0764992
X-APPLE-STRUCTURED-LOCATION;VALUE=URI;X-ADDRESS=11 Gillett Square London N16 8AZ;X-APPLE-RADIUS=500;X-TITLE=11 Gillett Square:geo:-0.0764992,51.5487082
ATTACH;FMTTYPE=image/jpeg:https://www.vortexjazz.co.uk/wp-content/uploads/2026/02/Sylvie-Ursula-New-Eve-Album-Launch-.jpeg
END:VEVENT
BEGIN:VEVENT
DTSTART;TZID=UTC+0:20260409T194500
DTEND;TZID=UTC+0:20260409T223000
DTSTAMP:20260420T063149
CREATED:20260225T091959
LAST-MODIFIED:20260225T091959
UID:27031-1775763900-1775773800@www.vortexjazz.co.uk
SUMMARY:James Kitchman
DESCRIPTION:Doors 7:45 PM\, Music 8:30 PM - 2 set(s) of music\n \nLine-up:\nJames Kitchman - Guitar\nBruno Heinen - Piano\nKobe Heath Ngugi - Double bass\nShane Forbes - Drum kit\n\n \nAbout:\nGuitarist James Kitchman brings dynamic\, enthralling Contemporary Jazz music with a unique dark lustre. Kitchman’s compositions interweave poised melody\, visceral rhythm\, night sky static atmospheres and tsunami crescendos\, realised through the cell level interplay of four of contemporary Jazz’s great imaginations. Modern music for everyone\, looking in all directions.\n\n
URL:https://www.vortexjazz.co.uk/event/james-kitchman/
LOCATION:11 Gillett Square\, London\, N16 8AZ
GEO:51.5487082;-0.0764992
X-APPLE-STRUCTURED-LOCATION;VALUE=URI;X-ADDRESS=11 Gillett Square London N16 8AZ;X-APPLE-RADIUS=500;X-TITLE=11 Gillett Square:geo:-0.0764992,51.5487082
ATTACH;FMTTYPE=image/jpeg:https://www.vortexjazz.co.uk/wp-content/uploads/2026/02/James-Kitchman.jpeg
END:VEVENT
END:VCALENDAR