BEGIN:VCALENDAR
VERSION:2.0
PRODID:-//Vortex Jazz Club - ECPv4.1.3//NONSGML v1.0//EN
CALSCALE:GREGORIAN
METHOD:PUBLISH
X-WR-CALNAME:Vortex Jazz Club
X-ORIGINAL-URL:https://www.vortexjazz.co.uk
X-WR-CALDESC:Events for Vortex Jazz Club
BEGIN:VEVENT
DTSTART;TZID=UTC+0:20260415T184500
DTEND;TZID=UTC+0:20260415T203000
DTSTAMP:20260420T062349
CREATED:20260217T091648
LAST-MODIFIED:20260413T142858
UID:27002-1776278700-1776285000@www.vortexjazz.co.uk
SUMMARY:Olivia Cuttill Quintet
DESCRIPTION:Doors 6:45 PM\, Music 7:15 PM - 1 set of music\n \nLine-up:\nOlivia Cuttill - Trumpet\nIssey Chivers - Voice\nTom Harris - Piano\nJosh Vadiveloo - Double bass\nMiles Pillinger - Drum kit\n\n \nAbout:\nOlivia Cuttill\, Leeds Conservatoire graduate\, APPAG Martin Hummel Award Winner\, APPG Best Newcomer Nominee\, Presti Music’a Newcomer Of The Year\, Peter Whitingham 2024 Award Winner is a London based jazz trumpet player and composer. Since releasing her debut album\, The Whole Damn Plan 2024\, with The Olivia Cuttill Quintet\, Olivia has toured the UK playing esteemed venues such as Ronnie Scotts\, Howard Assembly Room and South Bank Centre. Olivia also plays in Jazz FM Innovator of the year nominee ‘Ferg’s Imaginary Big Band’ and with Northern Line 2024 winner Tom Harris. Olivia’s second album\, ‘…And Writing And Singing And Tunes To Be Swingin’ was chosen as Jazz FM’s album of the week\, was played live on BBC 3 and featured in Jazz Wise magazine and more. The release was celebrated with a 10 date European tour. As the third generation to pursue music in her family \, jazz and blues are deeply rooted in Olivia’s heritage. Heavily influenced by the sounds of New Orleans\, inspired by Louis Armstrong and Dr John and the song writing of Nina Simone and Randy Newman\, her sound is rich with soul. Olivia’s approach to composition story telling and improvisation seamlessly bleed into one\, gleaming with conviction\, character and captivation. Olivia also plays in Jazz FM Innovator of the year nominee ‘Ferg’s Imaginary Big Band’ and with Northern Line 2024 winner Tom Harris\, the National Youth Jazz Orchestra and Orchestra Mambo International.\n\n \n\n[embed]https://youtu.be/FOl9_BMFutI?si=h2lgPQHSksl3_SA5[/embed]
URL:https://www.vortexjazz.co.uk/event/olivia-cuttill-quintet/
LOCATION:11 Gillett Square\, London\, N16 8AZ
GEO:51.5487082;-0.0764992
X-APPLE-STRUCTURED-LOCATION;VALUE=URI;X-ADDRESS=11 Gillett Square London N16 8AZ;X-APPLE-RADIUS=500;X-TITLE=11 Gillett Square:geo:-0.0764992,51.5487082
ATTACH;FMTTYPE=image/jpeg:https://www.vortexjazz.co.uk/wp-content/uploads/2026/02/Olivia-Cuttill-Quintet.jpeg
END:VEVENT
BEGIN:VEVENT
DTSTART;TZID=UTC+0:20260415T194500
DTEND;TZID=UTC+0:20260415T223000
DTSTAMP:20260420T062349
CREATED:20260309T172141
LAST-MODIFIED:20260309T172141
UID:27060-1776282300-1776292200@www.vortexjazz.co.uk
SUMMARY:Miguel Gorodi / Sam Braysher Quartet
DESCRIPTION:Doors 7:45 PM\, Music 8:30 PM - 2 set(s) of music\n \nLine-up:\nMiguel Gorodi - Trumpet\nSam Braysher - Alto saxophone\nTom Farmer - Double bass\nDavid Ingamells - Drum kit\n\n \nAbout:\nAfter several years pursuing other projects\, the quartet co-led by Miguel Gorodi and Sam Braysher reunites for a rare performance exploring the art of the contrafact — new melodies written over the harmonic frameworks of classic jazz standards.\n\nDrawing on a tradition associated with figures such as Charlie Parker\, Lennie Tristano and Coleman Hawkins\, the band performs original contrafacts alongside pieces by composers including Ben Webster\, Horace Silver and Warne Marsh among others.\n\nExpect inventive melodies\, swinging interplay and a fresh take on some of jazz’s most enduring harmonic foundations.\n\n \n\n[embed]https://youtu.be/nCI37UL0048?si=wtM8ahwbwFB3L_oY[/embed]
URL:https://www.vortexjazz.co.uk/event/miguel-gorodi-sam-braysher-quartet/
LOCATION:11 Gillett Square\, London\, N16 8AZ
GEO:51.5487082;-0.0764992
X-APPLE-STRUCTURED-LOCATION;VALUE=URI;X-ADDRESS=11 Gillett Square London N16 8AZ;X-APPLE-RADIUS=500;X-TITLE=11 Gillett Square:geo:-0.0764992,51.5487082
ATTACH;FMTTYPE=image/jpeg:https://www.vortexjazz.co.uk/wp-content/uploads/2026/03/Miguel-Gorodi-Sam-Braysher-Quartet.jpeg
END:VEVENT
END:VCALENDAR