BEGIN:VCALENDAR
VERSION:2.0
PRODID:-//Vortex Jazz Club - ECPv4.1.3//NONSGML v1.0//EN
CALSCALE:GREGORIAN
METHOD:PUBLISH
X-WR-CALNAME:Vortex Jazz Club
X-ORIGINAL-URL:https://www.vortexjazz.co.uk
X-WR-CALDESC:Events for Vortex Jazz Club
BEGIN:VEVENT
DTSTART;TZID=UTC+0:20260416T194500
DTEND;TZID=UTC+0:20260416T223000
DTSTAMP:20260420T062959
CREATED:20260228T003342
LAST-MODIFIED:20260304T092252
UID:27044-1776368700-1776378600@www.vortexjazz.co.uk
SUMMARY:Tom Niblock Big Band
DESCRIPTION:Doors 7:45 PM\, Music 8:30 PM - 2 sets of music\nLine-Up:\nBrinley Heywood-Snell\, Luke Vice-Coles\, James Copus\, Tom Syson – Trumpet\nTom Dunnett\, Dave Sear\, Josh Tagg\, Yusuf Narcin – Trombone\nGeorge Millard\, Sam Glaser\, Chris Maddock\, Jonathan Chung\, Damon Oliver – Saxophone\nGareth Fowler – Guitar\nOlly Chalk – Piano\nNiklas Lukassen – Bass\nJay Davis – Drums\n\nAbout:\nAward winning composer Tom Niblock returns to the Vortex with his big band featuring many young stars and more established names of the London Jazz scene and beyond. Having won the Dankworth Prize in 2021 and the Eddie Harvey Arranger Award in 2020\, the band will be playing his exciting original music alongside inventive arrangements.\n\nInfluenced by his compositional heroes such as Jim McNeely\, John Hollenbeck\, Maria Schneider and Slide Hampton\, Tom’s music also draws on 20th century classical approaches in its rich harmony\, structure and attention to detail. Expect to hear incredible improvising from this stellar line-up of musicians as they come together for this gig at the Vortex.\n\n[embed]https://www.youtube.com/watch?v=qr6eSw8gTvk&t=1s[/embed]
URL:https://www.vortexjazz.co.uk/event/tom-niblock-big-band-3/
LOCATION:11 Gillett Square\, London\, N16 8AZ
GEO:51.5487082;-0.0764992
X-APPLE-STRUCTURED-LOCATION;VALUE=URI;X-ADDRESS=11 Gillett Square London N16 8AZ;X-APPLE-RADIUS=500;X-TITLE=11 Gillett Square:geo:-0.0764992,51.5487082
ATTACH;FMTTYPE=image/jpeg:https://www.vortexjazz.co.uk/wp-content/uploads/2026/02/niblock.jpeg
END:VEVENT
END:VCALENDAR