BEGIN:VCALENDAR
VERSION:2.0
PRODID:-//Vortex Jazz Club - ECPv4.1.3//NONSGML v1.0//EN
CALSCALE:GREGORIAN
METHOD:PUBLISH
X-WR-CALNAME:Vortex Jazz Club
X-ORIGINAL-URL:https://www.vortexjazz.co.uk
X-WR-CALDESC:Events for Vortex Jazz Club
BEGIN:VEVENT
DTSTART;TZID=UTC+0:20260417T194500
DTEND;TZID=UTC+0:20260417T223000
DTSTAMP:20260420T180708
CREATED:20260210T203432
LAST-MODIFIED:20260211T090915
UID:26981-1776455100-1776465000@www.vortexjazz.co.uk
SUMMARY:Allsopp/Jurd/Storey/Thormodsæter
DESCRIPTION:Doors 7:45 PM\, Music 8:30 PM - 2 set(s) of music\n \nLine-up:\nJames Allsopp - Saxophone\nLaura Jurd - Trumpet\nMagne Thormodsæter - Double bass\nDave Storey - Drum kit\nAbout:\nA second outing for this new collaboration between Laura Jurd\, James Allsopp and Dave Storey featuring Norwegian special guest Magne Thormodsæter on double bass. The band will be performing compositions by all the members.\n\nThis is uplifting\, melodic music played with heart and energy. Don’t miss this exciting opportunity to see this stellar quartet.
URL:https://www.vortexjazz.co.uk/event/allsoppjurdstoreythormodsaeter-2/
LOCATION:11 Gillett Square\, London\, N16 8AZ
GEO:51.5487082;-0.0764992
X-APPLE-STRUCTURED-LOCATION;VALUE=URI;X-ADDRESS=11 Gillett Square London N16 8AZ;X-APPLE-RADIUS=500;X-TITLE=11 Gillett Square:geo:-0.0764992,51.5487082
ATTACH;FMTTYPE=image/jpeg:https://www.vortexjazz.co.uk/wp-content/uploads/2026/02/Allsopp-Composite.jpeg
END:VEVENT
END:VCALENDAR