BEGIN:VCALENDAR
VERSION:2.0
PRODID:-//Vortex Jazz Club - ECPv4.1.3//NONSGML v1.0//EN
CALSCALE:GREGORIAN
METHOD:PUBLISH
X-WR-CALNAME:Vortex Jazz Club
X-ORIGINAL-URL:https://www.vortexjazz.co.uk
X-WR-CALDESC:Events for Vortex Jazz Club
BEGIN:VEVENT
DTSTART;TZID=UTC+0:20260424T194500
DTEND;TZID=UTC+0:20260424T223000
DTSTAMP:20260420T180229
CREATED:20260116T195415
LAST-MODIFIED:20260416T130652
UID:26839-1777059900-1777069800@www.vortexjazz.co.uk
SUMMARY:Kasper Rietkerk The Happy Worrier
DESCRIPTION:Doors 7:45 PM\, Music 8:30 PM - 2 sets of music\n \nLine-up:\nKasper Rietkerk - Alto saxophone\nRebecka Edlund - Vocals\nJohn Parricelli - Guitar\nTom Herbert - Double bass\nJonah Evans - Drum kit\n\n \nAbout:\nOn this special night\, award-winning saxophonist Kasper Rietkerk takes the stage with music from his well received album The Happy Worrier\, performed by the original recording line-up. The album is written after Rietkerk received the Brubeck Living Legacy Prize in 2024.\n\nLast year\, Rietkerk received a Dutch Edison Award for his debut album The Island.\n\n“Rietkerk’s writing is impeccable: memorable themes\, unexpected twists\, and\, above all else\, space for the band to breathe.” – Tom Spargo\, Jazzwise (2025)\n\n“…definitely one of my favourite releases of the year so far….”\n\nHelen Mayhew\, Jazz FM The British Jazz Show\n\n[embed]https://youtu.be/JDVkhGkPZjE[/embed]
URL:https://www.vortexjazz.co.uk/event/kasper-rietkerk-the-happy-worrier/
LOCATION:11 Gillett Square\, London\, N16 8AZ
GEO:51.5487082;-0.0764992
X-APPLE-STRUCTURED-LOCATION;VALUE=URI;X-ADDRESS=11 Gillett Square London N16 8AZ;X-APPLE-RADIUS=500;X-TITLE=11 Gillett Square:geo:-0.0764992,51.5487082
ATTACH;FMTTYPE=image/jpeg:https://www.vortexjazz.co.uk/wp-content/uploads/2026/01/Kasper-Rietkerk-The-Happy-Worrier.jpeg
END:VEVENT
BEGIN:VEVENT
DTSTART;TZID=UTC+0:20260424T220000
DTEND;TZID=UTC+0:20260425T010000
DTSTAMP:20260420T180229
CREATED:20260316T210355
LAST-MODIFIED:20260416T130634
UID:27090-1777068000-1777078800@www.vortexjazz.co.uk
SUMMARY:Vortex Lates: Tom O’Brien & Citizen Pain
DESCRIPTION:Doors 10:00 PM\, Music 10:30 PM - 2 sets of music\n \nLine-up:\nTom O’Brien - Piano\nGeorge Mooney - Saxophone\nBarney Anderson - Electric guitar\nKobe Heath-Ngugi - Bass guitar\nSacha Harlan - Drum kit\n\n \nAbout:\nKeyboardist Tom O’Brien presents his new band; exploring and transforming groove-driven compositions and free improvisations using a colourful palette of sounds and a broad range of textures. Together the group\, all frequent collaborators\, create music that is unpredictable\, playful and introspective.\n\n \n\n[embed]https://on.soundcloud.com/yp8PI62PSZMNK3xaWs[/embed]
URL:https://www.vortexjazz.co.uk/event/vortex-lates-tom-obrien-citizen-pain/
LOCATION:11 Gillett Square\, London\, N16 8AZ
GEO:51.5487082;-0.0764992
X-APPLE-STRUCTURED-LOCATION;VALUE=URI;X-ADDRESS=11 Gillett Square London N16 8AZ;X-APPLE-RADIUS=500;X-TITLE=11 Gillett Square:geo:-0.0764992,51.5487082
ATTACH;FMTTYPE=image/jpeg:https://www.vortexjazz.co.uk/wp-content/uploads/2026/03/Vortex-Lates-Tom-O’Brien-Citizen-Pain.jpeg
END:VEVENT
END:VCALENDAR