BEGIN:VCALENDAR
VERSION:2.0
PRODID:-//Vortex Jazz Club - ECPv4.1.3//NONSGML v1.0//EN
CALSCALE:GREGORIAN
METHOD:PUBLISH
X-WR-CALNAME:Vortex Jazz Club
X-ORIGINAL-URL:https://www.vortexjazz.co.uk
X-WR-CALDESC:Events for Vortex Jazz Club
BEGIN:VEVENT
DTSTART;TZID=UTC+0:20260426T194500
DTEND;TZID=UTC+0:20260426T223000
DTSTAMP:20260420T005304
CREATED:20260406T121434
LAST-MODIFIED:20260406T121737
UID:27185-1777232700-1777242600@www.vortexjazz.co.uk
SUMMARY:Vortex Jam Session with Olly Chalk
DESCRIPTION:Doors 7:45 PM\, Music 8:15 PM\n\nHouse Band\nTBC\nAbout\nA weekly session on Sunday evenings\, hosted by four of London’s finest: guitarist Nick Costley-White\, Trumpeter Sean Gibbs\, pianist Rick Simpson and tenor saxophonists and Riley Stone-Lonergan\, each one hosting one session on rotation.\n\nIf you’re an instrumentalist – we can’t wait to welcome you back to the club – you can attend for free if you’re planning on playing with the house band. No need to book in advance!\n\nOur dear Vortex members are also welcome to these sessions free of charge.
URL:https://www.vortexjazz.co.uk/event/vortex-jam-session-with-olly-chalk-2/
LOCATION:11 Gillett Square\, London\, N16 8AZ
GEO:51.5487082;-0.0764992
X-APPLE-STRUCTURED-LOCATION;VALUE=URI;X-ADDRESS=11 Gillett Square London N16 8AZ;X-APPLE-RADIUS=500;X-TITLE=11 Gillett Square:geo:-0.0764992,51.5487082
ATTACH;FMTTYPE=image/jpeg:https://www.vortexjazz.co.uk/wp-content/uploads/2026/01/olly-chlk.jpeg
END:VEVENT
END:VCALENDAR