BEGIN:VCALENDAR
VERSION:2.0
PRODID:-//Vortex Jazz Club - ECPv4.1.3//NONSGML v1.0//EN
CALSCALE:GREGORIAN
METHOD:PUBLISH
X-WR-CALNAME:Vortex Jazz Club
X-ORIGINAL-URL:https://www.vortexjazz.co.uk
X-WR-CALDESC:Events for Vortex Jazz Club
BEGIN:VEVENT
DTSTART;TZID=UTC+0:20260430T184500
DTEND;TZID=UTC+0:20260430T201500
DTSTAMP:20260420T025122
CREATED:20260324T214641
LAST-MODIFIED:20260413T104728
UID:27129-1777574700-1777580100@www.vortexjazz.co.uk
SUMMARY:Whirlpool: Ananda Brandão
DESCRIPTION:Doors 6:45 PM\, Music 7:15 PM - 1 set of music\n \nLINE-UP:\nAnanda Brandão – drums\nDom Howard – guitar\nJonny Mansfield - vibraphone\nLaurie Rich – piano\nBen Boardman – bass\n\nABOUT:\nBright\, punchy\, and vibrant\, drummer Ananda Brandão presents a new quintet with a fresh set original music. Specially created for this performance\, the band’s sound blends the driving energy of modern jazz with a contemplative\, atmospheric spirit.\nWinner of the Musician’s Company Silver Medal and 1st Prize at the Rezzo Competition by Jazz à Vienne with her band Ninanda\, Ananda Brandão is a French-Brazilian drummer who has performed across the UK\, Europe\, and Brazil alongside artists such as Alex Hitchcock\, Emma Rawicz\, Anatole Muster\, and Clélya Abraham. After completing her Master’s degree at the Royal Academy of Music in June 2025\, she now bridges the Paris and London jazz scenes\, fully engaged in both.\n\nShe is joined by leading musicians from the London jazz scene: Dom Howard (guitar)\, Jonny Mansfield (vibraphone)\, Laurie Rich (piano)\, and Ben Boardman (bass).\nA vibrant\, immersive\, and intimate live show\, not to be missed.\n\n
URL:https://www.vortexjazz.co.uk/event/whirlpool-ananda-brandao/
LOCATION:11 Gillett Square\, London\, N16 8AZ
GEO:51.5487082;-0.0764992
X-APPLE-STRUCTURED-LOCATION;VALUE=URI;X-ADDRESS=11 Gillett Square London N16 8AZ;X-APPLE-RADIUS=500;X-TITLE=11 Gillett Square:geo:-0.0764992,51.5487082
ATTACH;FMTTYPE=image/jpeg:https://www.vortexjazz.co.uk/wp-content/uploads/2026/03/Whirlpool-Ananda-Brandão-.jpeg
END:VEVENT
BEGIN:VEVENT
DTSTART;TZID=UTC+0:20260430T194500
DTEND;TZID=UTC+0:20260430T223000
DTSTAMP:20260420T025122
CREATED:20260210T111702
LAST-MODIFIED:20260210T123011
UID:26966-1777578300-1777588200@www.vortexjazz.co.uk
SUMMARY:Matt Carmichael
DESCRIPTION:Doors 7:45 PM\, Music 8:30 PM - 2 sets of music\n \nLine-up:\nMatt Carmichael - Tenor saxophone\nOwen Spafford - Violin\nRory Green - Acoustic and Electric guitar\nFinn Carter - Piano\nCorrie Dick - Drum kit\nAli Watson - Double bass\n\n \nAbout:\nA special one-off London line-up feature some of the UK's most exciting Jazz and Folk musicians. Alongside music from previous albums this gig will also preview new material that sees the music moves into a slightly darker\, more guitar-driven space\, evolving the Scottish Folk-Jazz sound with indie influences.\n\nHeralded by BBC Music Magazine as "a distinctive new voice in a crowded scene\," Scottish saxophonist and composer Matt Carmichael continues to move from strength to strength and grow his reach globally with his powerfully emotive blend of melodic jazz and folk music. Born just outside of Inverness before moving to Glasgow\, where\, at the age of 11\, he enthusiastically ran home from school clutching a letter from his local music service offering saxophone lessons. Music instantly became his passion\, and he soon began writing music for his own band\, performing their first gig at the Butterfly and Pig in Glasgow — before half the band were legally allowed in the pub.\n\nSince then\, the band has developed a special chemistry and sound together\, grounded in collective improvisation. They regularly perform internationally at venues like Bimhuis\, Fasching\, Celtic Connections\, Ronnie Scott’s\, and Love Supreme\, as well as Matt working as a soloist and arranger with the Grammy Award-winning WDR Big Band and the Scottish National Jazz Orchestra.\n\nFollowing his critically acclaimed debut Where Will the River Flow (which amassed over 8 million streams)\, Carmichael signed to the renowned label Edition Records for his second album\, Marram. His latest album\, Dancing with Embers included collaborations with Rachel Sermanni and Brìghde Chaimbeul and was shortlisted for the multi-genre SAY awards as well as winning ‘Best Album’ in the Scottish Jazz Awards.\n\n \n\n[embed]https://www.youtube.com/watch?v=GDXhT78NlV8[/embed]
URL:https://www.vortexjazz.co.uk/event/matt-carmichael/
LOCATION:11 Gillett Square\, London\, N16 8AZ
GEO:51.5487082;-0.0764992
X-APPLE-STRUCTURED-LOCATION;VALUE=URI;X-ADDRESS=11 Gillett Square London N16 8AZ;X-APPLE-RADIUS=500;X-TITLE=11 Gillett Square:geo:-0.0764992,51.5487082
ATTACH;FMTTYPE=image/jpeg:https://www.vortexjazz.co.uk/wp-content/uploads/2026/02/Matt-Carmichael.jpeg
END:VEVENT
END:VCALENDAR